BEGIN:VCALENDAR
VERSION:2.0
PRODID:-//Quälgeist Berlin e.V. - ECPv6.15.18//NONSGML v1.0//EN
CALSCALE:GREGORIAN
METHOD:PUBLISH
X-WR-CALNAME:Quälgeist Berlin e.V.
X-ORIGINAL-URL:https://quaelgeist.sm
X-WR-CALDESC:Veranstaltungen für Quälgeist Berlin e.V.
REFRESH-INTERVAL;VALUE=DURATION:PT1H
X-Robots-Tag:noindex
X-PUBLISHED-TTL:PT1H
BEGIN:VTIMEZONE
TZID:Europe/Berlin
BEGIN:DAYLIGHT
TZOFFSETFROM:+0100
TZOFFSETTO:+0200
TZNAME:CEST
DTSTART:20230326T010000
END:DAYLIGHT
BEGIN:STANDARD
TZOFFSETFROM:+0200
TZOFFSETTO:+0100
TZNAME:CET
DTSTART:20231029T010000
END:STANDARD
BEGIN:DAYLIGHT
TZOFFSETFROM:+0100
TZOFFSETTO:+0200
TZNAME:CEST
DTSTART:20240331T010000
END:DAYLIGHT
BEGIN:STANDARD
TZOFFSETFROM:+0200
TZOFFSETTO:+0100
TZNAME:CET
DTSTART:20241027T010000
END:STANDARD
BEGIN:DAYLIGHT
TZOFFSETFROM:+0100
TZOFFSETTO:+0200
TZNAME:CEST
DTSTART:20250330T010000
END:DAYLIGHT
BEGIN:STANDARD
TZOFFSETFROM:+0200
TZOFFSETTO:+0100
TZNAME:CET
DTSTART:20251026T010000
END:STANDARD
END:VTIMEZONE
BEGIN:VEVENT
DTSTART;TZID=Europe/Berlin:20240221T190000
DTEND;TZID=Europe/Berlin:20240221T220000
DTSTAMP:20260421T112544
CREATED:20240211T124013Z
LAST-MODIFIED:20240211T124013Z
UID:10000012-1708542000-1708552800@quaelgeist.sm
SUMMARY:Hypnose Workshop - Trigger Play
DESCRIPTION:Einlass bis 19:15:00 Uhr / Admission until 19:15:00   \n▼ ENGLISH BELOW ▼\nHypnose und BDSM sind näher verwandt als viele annehmen\, denn der Subspace ist einer Trance sehr ähnlich.\nWorkshop-Reihe zu verschiedenen Themen rund um erotische Hypnose: Worum handelt es sich\, wie versetze ich jemanden in Trance und was muss ich dabei beachten?  \n\nThema für Februar: Triggger Play  \nHypnose kann interessante und spannende Effekte auslösen\, man muss aber etwas Geduld mit sich bringen\, um Subby in Trance zu bekommen und dann die Suggestionen richtig formulieren. Wäre es nicht schöner\, wenn man die Effekte auch mit einem sprichwörtlichen Fingerschnips oder mit ein oder zwei Worten hervorrufen könnte?\nMit Hilfe von Triggern kannst du genau das erreichen\, egal ob du Subby horny und/oder unterwürfig machen willst\, es dazu bringen möchtest\, den Mund zu halten oder einfach innerhab weniger Momente einen Orgasmus erzeugen willst.\n\nWir lernen\, was Trigger sind und was sie von Ankern unterscheidet\, wie man sie sicher macht\, so dass sie nicht am falschen Ort zur falschen Zeit ausgelöst werden und sebstverständlich auch\, wie man sie wieder entfernt.\nWir empfehlen euch\, einen Lieblingsmenschen für die Übungen mitzubringen. Je nach Vorlieben und Absprache könnt ihr alles von nicht-sexuellen bis zu sehr intimen Beispielen wählen. \n \n\nEinlass: 19:00 – 19:15\n\nWorkshop 19:15 – 22:00\, danach entspannter Hypnosestammtisch\nBegrenzte Teilnehmerzahl\nVoranmeldung erforderlich\nEintritt kostenfrei\, Spenden herzlich willkommen\n\nFragen? Schreib uns eine Mail: jens@quaelgeist.sm\n⏵ ENGLISH ⏴\nHypnosis and BDSM are closer related than many think\, because the subspace is very similar to a trance.\nWorkshop series on various topics around erotic hypnosis: What is it about\, how do I put someone into a trance and what do I need to keep in mind?\nFind more details about the individual workshops in our app or on our homepage. \n\nTopic for February: Trigger Play \n\nHypnosis can induce interesting and exciting effects\, but you have to be patient to get Subby into a trance and then formulate the suggestions correctly. Wouldn´t it be nicer if you could induce the effects with a literal snap of the fingers or a word or two?\nWith the help of triggers\, you can achieve exactly that\, whether you want to make Subby horny and/or submissive\, get them to shut up or simply create an orgasm within a few moments.\n\nWe´ll learn what triggers are and how they differ from anchors\, how to make them safe so they´re not triggered in the wrong place at the wrong time and\, of course\, how to remove them.\nWe recommend that you bring a favorite person with you for the exercises. Depending on your preferences and agreement\, you can choose anything from non-sexual to very intimate examples. \n\nDoor open: 19:00 – 19:15\nWorkshop: 19:15 – 22:00\, afterwards relaxed hypnosis meetup\nLimited number of participants\nregistration mandatory\nFree entry\, donations welcome\n\nAny questions? Send us an email: jens@quaelgeist.sm \nAnmeldung erforderlich! / Registration mandatory!Zur Anmeldung / Registration form
URL:https://quaelgeist.sm/event/hypnose-workshop-trigger-play/
LOCATION:Quälgeist Berlin e.V.\, Lankwitzer Straße 42/43\, Berlin\, 12107\, Deutschland
CATEGORIES:Open to all
END:VEVENT
END:VCALENDAR