BEGIN:VCALENDAR
VERSION:2.0
PRODID:-//Quälgeist Berlin e.V. - ECPv6.15.18//NONSGML v1.0//EN
CALSCALE:GREGORIAN
METHOD:PUBLISH
X-ORIGINAL-URL:https://quaelgeist.sm
X-WR-CALDESC:Veranstaltungen für Quälgeist Berlin e.V.
REFRESH-INTERVAL;VALUE=DURATION:PT1H
X-Robots-Tag:noindex
X-PUBLISHED-TTL:PT1H
BEGIN:VTIMEZONE
TZID:Europe/Berlin
BEGIN:DAYLIGHT
TZOFFSETFROM:+0100
TZOFFSETTO:+0200
TZNAME:CEST
DTSTART:20240331T010000
END:DAYLIGHT
BEGIN:STANDARD
TZOFFSETFROM:+0200
TZOFFSETTO:+0100
TZNAME:CET
DTSTART:20241027T010000
END:STANDARD
BEGIN:DAYLIGHT
TZOFFSETFROM:+0100
TZOFFSETTO:+0200
TZNAME:CEST
DTSTART:20250330T010000
END:DAYLIGHT
BEGIN:STANDARD
TZOFFSETFROM:+0200
TZOFFSETTO:+0100
TZNAME:CET
DTSTART:20251026T010000
END:STANDARD
BEGIN:DAYLIGHT
TZOFFSETFROM:+0100
TZOFFSETTO:+0200
TZNAME:CEST
DTSTART:20260329T010000
END:DAYLIGHT
BEGIN:STANDARD
TZOFFSETFROM:+0200
TZOFFSETTO:+0100
TZNAME:CET
DTSTART:20261025T010000
END:STANDARD
END:VTIMEZONE
BEGIN:VEVENT
DTSTART;TZID=Europe/Berlin:20250308T140000
DTEND;TZID=Europe/Berlin:20250308T180000
DTSTAMP:20260423T150405
CREATED:20250301T142753Z
LAST-MODIFIED:20250301T142753Z
UID:10000484-1741442400-1741456800@quaelgeist.sm
SUMMARY:Learn the Ropes - Brust und Hüftharnes
DESCRIPTION:Einlass bis 14:15 Uhr / Admission until 14:15   \n▼ ENGLISH BELOW ▼\nDiese Workshop-Reihe vermittelt den sicheren Umgang mit Seilen sowie die erforderlichen Kenntnisse zu den Risiken und deren Vermeidung. Sie baut teilweise aufeinander auf\, muss jedoch nicht vollständig besucht werden. Wir erwarten jedoch\, dass die jeweils angeführten Kenntnisse vorhanden sind. Es können eigene Seile mitgebracht oder vor Ort ausgeliehen werden.​​\n\nWir werden einen Oberkörperharness (takate kote) und einen Hüftharness unterrichten. Beide zusammen bieten eine solide Grundlage für die Weiterentwicklung in Richtung Hängebondage (semi und full suspension).\nWir freuen uns auf Teilnehmer\, die bereits über erste Kenntnisse des Fesselns mit Seil verfügen\, Ein- oder Zweihand-Fesselung (Single/Dual Column Tie)\, Kreuzknoten. Wir bauen auf vorhandenen Fähigkeiten auf und zeigen\, wie aus einzelnen\, universell einsetzbaren Basistechniken auch komplexe Fesselungen entstehen können. \nWir empfehlen euch auch\, dass ihr euch zusammen mit Partner anmeldet. Wenn ihr einzeln kommen wollt\, schreibt bitte eine kurze Mail an die Workshopleiter\, um abzuklären\, dass wir jeweils Paare bilden können. Wir werden den Workshop so gestalten\, dass ihr während des Workshops switchen könnt. \n\nBegrenzte Teilnehmerzahl\nVoranmeldung erforderlich\nEmpfohlene Seile: 3-4x 8-10m\nEintritt kostenfrei\, Spenden gerne gesehen\nKein Dresscode\, Fetish Willkommen – Wir empfehlen bequeme Kleidung\nDieser Workshop wird auf Deutsch gehalten\, oft können Teilnehmer auf Englisch übersetzen\n\n\n\nFragen? Schreib uns eine Mail: Jens und Enji oder komm in unsere Telegramgruppe.\n \n► ENGLISH ◄\nIn this workshop series we teach the safe use of ropes as well as the necessary knowledge of the risks and their mitigation. The individual workshops are based on each other\, but it is not compulsory to attend them all. We do\, however\, expect the participants to have the knowledge listed in the deskriptions. You can bring your own ropes or borrow them on site.\n\nWe will teach an upper body harness (takate kote) and a hip harness. otth provide a solid foundation for further development towards suspension bondage (semi and full suspension).\nWe are looking forward to participants who already have some knowledge of rope bondage\, single and dual column tie\, square knot etc. We build on existing skills and show how complex restraints can be created and mastered from basic\, universally applicable basic techniques.\nWe also recommend that you register together with a partner. If you want to come individually\, please send a short email to the workshop leaders to clarify so that we can form pairs. We will organize the workshop in such a way that you can switch during the workshop. \n\nLimited number of participants\nregistration mandatory\nrecommended ropes: 3-4x 8-10m\nentrance free\, donations welcome\nNo Dresscode\, fetish welcome – We recommend comfortable clothes\nThis workshop will be held in German\, often there are participants who can interpret to English.\n\n\nAny questions? Send us an email: Jens und Enji or join our telegram group Telegram group. \nVoranmeldung möglich / Pre-registration possibleZur Anmeldung / Registration form
URL:https://quaelgeist.sm/event/learn-the-ropes-second-step-basics-in-ihrer-anwendung-2/
LOCATION:Quälgeist Berlin e.V.\, Lankwitzer Straße 42/43\, Berlin\, 12107\, Deutschland
CATEGORIES:Open to all
END:VEVENT
BEGIN:VEVENT
DTSTART;TZID=Europe/Berlin:20250308T200000
DTEND;TZID=Europe/Berlin:20250308T200000
DTSTAMP:20260423T150405
CREATED:20250308T172414Z
LAST-MODIFIED:20250308T172414Z
UID:10000417-1741464000-1741464000@quaelgeist.sm
SUMMARY:Sodom & Gomorrha
DESCRIPTION:▼ ENGLISH BELOW ▼\nAusschweifende BDSM- und Fetisch-Party biblischen Ausmaßes für Frauen* und Männer*.\nLass deine Göttin Pech und Schwefel auf dich herniederregnen oder – falls es an Gotteskraft mangelt – ein wenig Kerzenwachs und ein schlichtes Flogging. Oder was auch immer euch beliebt. Setzt Himmel und Hölle in Bewegung für Bondage\, Disziplin\, Sklaverei und D/s in allen Konstellationen ebenso\, wie für Sadomasochismus in Reinform. Für dominante Männer und devote Sklavinnen sowie für FemDoms und ihre unterwürfigen Männer. \n\nANGEMESSENE GARDEROBE: Abendkleid\, Anzug\, Fetisch oder gepflegtes Schwarz\n\n⏵ ENGLISH ⏴\nDebauched BDSM and fetish party of biblical proportions for women* and men*.\nLet your goddess rain fire and brimstone down on you\, or – if there’s a lack of godly power – a little candle wax and some plain simple flogging. Or whatever takes your fancy. Set heaven and hell in motion for bondage\, discipline\, slavery and D/s in all constellations as well as for sadomasochism in its purest form. For dominant men and submissive slaves as well as for FemDoms and their submissive men. \n\nAPPROPRIATE GARDEROBE: evening dress\, suit\, fetish or neat black.\n\n \nVoranmeldung möglich / Pre-registration possibleZur Anmeldung / Registration form
URL:https://quaelgeist.sm/event/sodom-gomorrha-13/
LOCATION:Quälgeist Berlin e.V.\, Lankwitzer Straße 42/43\, Berlin\, 12107\, Deutschland
CATEGORIES:Mixed
ATTACH;FMTTYPE=image/jpeg:https://quaelgeist.sm/wp-content/uploads/2024/02/sodom-7RWGJL.tmp_.jpg
END:VEVENT
END:VCALENDAR