BEGIN:VCALENDAR
VERSION:2.0
PRODID:-//Quälgeist Berlin e.V. - ECPv6.15.18//NONSGML v1.0//EN
CALSCALE:GREGORIAN
METHOD:PUBLISH
X-WR-CALNAME:Quälgeist Berlin e.V.
X-ORIGINAL-URL:https://quaelgeist.sm
X-WR-CALDESC:Veranstaltungen für Quälgeist Berlin e.V.
REFRESH-INTERVAL;VALUE=DURATION:PT1H
X-Robots-Tag:noindex
X-PUBLISHED-TTL:PT1H
BEGIN:VTIMEZONE
TZID:Europe/Berlin
BEGIN:DAYLIGHT
TZOFFSETFROM:+0100
TZOFFSETTO:+0200
TZNAME:CEST
DTSTART:20240331T010000
END:DAYLIGHT
BEGIN:STANDARD
TZOFFSETFROM:+0200
TZOFFSETTO:+0100
TZNAME:CET
DTSTART:20241027T010000
END:STANDARD
BEGIN:DAYLIGHT
TZOFFSETFROM:+0100
TZOFFSETTO:+0200
TZNAME:CEST
DTSTART:20250330T010000
END:DAYLIGHT
BEGIN:STANDARD
TZOFFSETFROM:+0200
TZOFFSETTO:+0100
TZNAME:CET
DTSTART:20251026T010000
END:STANDARD
BEGIN:DAYLIGHT
TZOFFSETFROM:+0100
TZOFFSETTO:+0200
TZNAME:CEST
DTSTART:20260329T010000
END:DAYLIGHT
BEGIN:STANDARD
TZOFFSETFROM:+0200
TZOFFSETTO:+0100
TZNAME:CET
DTSTART:20261025T010000
END:STANDARD
END:VTIMEZONE
BEGIN:VEVENT
DTSTART;TZID=Europe/Berlin:20250409T180000
DTEND;TZID=Europe/Berlin:20250409T220000
DTSTAMP:20260421T140727
CREATED:20250406T195914Z
LAST-MODIFIED:20250406T195914Z
UID:10000428-1744221600-1744236000@quaelgeist.sm
SUMMARY:Playfight Playground
DESCRIPTION:Einlass bis 19:00:00 Uhr / Admission until 19:00:00   \n▼ ENGLISH BELOW ▼\nHier geht es nicht ums Gewinnen\, sondern um spielerisches Raufen und das Erleben von Freude. Lebe deinen Spieltrieb aus und spüre verschiedene Emotionen. Moderierte Veranstaltung: Nach einem kurzen Kennenlernen besprechen wir Regeln und Tabus\, dann steigen wir ins Raufen\, Balgen\, Kuscheln\, lachen und Kräfte Messen ein. Keine körperlichen Voraussetzungen und spezielle Kenntnisse erforderlich. \n\nEinlass 18 bis 19 Uhr\, Ende 22 Uhr\nDresscode: lange Sportkleidung\, kein Schmuck\n\n⏵ ENGLISH ⏴\nThis is not about winning\, but about playful tussling and experiencing joy. Live out your play instinct and feel different emotions. Moderated event: After a brief introduction\, we discuss rules and taboos\, then we get into roughhousing\, wrestling\, cuddling\, laughing and measuring strength. No physical requirements or special knowledge necessary. \n\nAdmission 6 to 7 pm\, end 10 pm\nDresscode: long sportswear\, no jewelry\n\n \nAnmeldung erforderlich! / Registration mandatory!Zur Anmeldung / Registration form
URL:https://quaelgeist.sm/event/playfight-playground-15/
LOCATION:Quälgeist Berlin e.V.\, Lankwitzer Straße 42/43\, Berlin\, 12107\, Deutschland
CATEGORIES:Open to all
END:VEVENT
END:VCALENDAR