BEGIN:VCALENDAR
VERSION:2.0
PRODID:-//Quälgeist Berlin e.V. - ECPv6.15.18//NONSGML v1.0//EN
CALSCALE:GREGORIAN
METHOD:PUBLISH
X-ORIGINAL-URL:https://quaelgeist.sm
X-WR-CALDESC:Veranstaltungen für Quälgeist Berlin e.V.
REFRESH-INTERVAL;VALUE=DURATION:PT1H
X-Robots-Tag:noindex
X-PUBLISHED-TTL:PT1H
BEGIN:VTIMEZONE
TZID:Europe/Berlin
BEGIN:DAYLIGHT
TZOFFSETFROM:+0100
TZOFFSETTO:+0200
TZNAME:CEST
DTSTART:20240331T010000
END:DAYLIGHT
BEGIN:STANDARD
TZOFFSETFROM:+0200
TZOFFSETTO:+0100
TZNAME:CET
DTSTART:20241027T010000
END:STANDARD
BEGIN:DAYLIGHT
TZOFFSETFROM:+0100
TZOFFSETTO:+0200
TZNAME:CEST
DTSTART:20250330T010000
END:DAYLIGHT
BEGIN:STANDARD
TZOFFSETFROM:+0200
TZOFFSETTO:+0100
TZNAME:CET
DTSTART:20251026T010000
END:STANDARD
BEGIN:DAYLIGHT
TZOFFSETFROM:+0100
TZOFFSETTO:+0200
TZNAME:CEST
DTSTART:20260329T010000
END:DAYLIGHT
BEGIN:STANDARD
TZOFFSETFROM:+0200
TZOFFSETTO:+0100
TZNAME:CET
DTSTART:20261025T010000
END:STANDARD
END:VTIMEZONE
BEGIN:VEVENT
DTSTART;TZID=Europe/Berlin:20250413T150000
DTEND;TZID=Europe/Berlin:20250413T220000
DTSTAMP:20260421T144931
CREATED:20250406T195918Z
LAST-MODIFIED:20250406T195918Z
UID:10000441-1744556400-1744581600@quaelgeist.sm
SUMMARY:Honey & Spice
DESCRIPTION:Einlass bis 16:00:00 Uhr / Admission until 16:00:00   \n▼ ENGLISH BELOW ▼\nDie Honey & Spice ist eine BDSM-Playparty für Frauen\, Lesben\, inter\, nicht-binäre\, trans und agender Menschen (FLINTA) nach Selbstdefinition\, unabhängig vom Aussehen.\nFür weitere Infos besucht unsere Website und unsere Gruppe bei Fetlife. \nErste Einlasszeit: 15:00-16:00 Uhr\nZweite Einlasszeit: 19:00-19:30 Uhr \n\nKein Dresscode – Fetisch willkommen\nCovid-Maßnahmen: Wir bitten alle\, getestet zu unserer Party zu kommen und bei Symptomen zu Hause zu bleiben. Wir haben auch Coronatests auf der Veranstaltung verfügbar\, aber zu Hause testen wäre super.\n\n⏵ ENGLISH ⏴\nHoney & Spice is a BDSM play party for women\, lesbians\, inter\, non-binary\, trans\, and agender people (FLINTA) according to self-definition\, independent of appearance. For more information check our website and our group on Fetlife. \nFirst entry time: 3:00-4:00 p.m.\nSecond entry time: 7:00-7:30 p.m. \n\nNo dresscode – fetish welcome\nCovid guidelines: We kindly advise our visitors to take a Covid self-test and to stay home in case of symptoms. It is also possible to do a self-test at the entrance\, but it would be nice if it could be done beforehand at home.\n\n \nVoranmeldung möglich / Pre-registration possibleZur Anmeldung / Registration form
URL:https://quaelgeist.sm/event/honey-spice-14/
LOCATION:Quälgeist Berlin e.V.\, Lankwitzer Straße 42/43\, Berlin\, 12107\, Deutschland
CATEGORIES:FLINT
END:VEVENT
END:VCALENDAR