BEGIN:VCALENDAR
VERSION:2.0
PRODID:-//Quälgeist Berlin e.V. - ECPv6.15.18//NONSGML v1.0//EN
CALSCALE:GREGORIAN
METHOD:PUBLISH
X-ORIGINAL-URL:https://quaelgeist.sm
X-WR-CALDESC:Veranstaltungen für Quälgeist Berlin e.V.
REFRESH-INTERVAL;VALUE=DURATION:PT1H
X-Robots-Tag:noindex
X-PUBLISHED-TTL:PT1H
BEGIN:VTIMEZONE
TZID:Europe/Berlin
BEGIN:DAYLIGHT
TZOFFSETFROM:+0100
TZOFFSETTO:+0200
TZNAME:CEST
DTSTART:20240331T010000
END:DAYLIGHT
BEGIN:STANDARD
TZOFFSETFROM:+0200
TZOFFSETTO:+0100
TZNAME:CET
DTSTART:20241027T010000
END:STANDARD
BEGIN:DAYLIGHT
TZOFFSETFROM:+0100
TZOFFSETTO:+0200
TZNAME:CEST
DTSTART:20250330T010000
END:DAYLIGHT
BEGIN:STANDARD
TZOFFSETFROM:+0200
TZOFFSETTO:+0100
TZNAME:CET
DTSTART:20251026T010000
END:STANDARD
BEGIN:DAYLIGHT
TZOFFSETFROM:+0100
TZOFFSETTO:+0200
TZNAME:CEST
DTSTART:20260329T010000
END:DAYLIGHT
BEGIN:STANDARD
TZOFFSETFROM:+0200
TZOFFSETTO:+0100
TZNAME:CET
DTSTART:20261025T010000
END:STANDARD
END:VTIMEZONE
BEGIN:VEVENT
DTSTART;TZID=Europe/Berlin:20250517T180000
DTEND;TZID=Europe/Berlin:20250517T203000
DTSTAMP:20260421T125217
CREATED:20250427T161731Z
LAST-MODIFIED:20250427T161731Z
UID:10000476-1747504800-1747513800@quaelgeist.sm
SUMMARY:Bondage- & Kitzel-Workshop
DESCRIPTION:Einlass bis 18:30:00 Uhr / Admission until 18:30:00   \n▼ ENGLISH BELOW ▼\nUm verzweifelte Gegenwehr beim Kitzeln zu unterbinden\, ist es wichtig\, das Opfer gut zu verschnüren. In diesem Workshop wird erläutert wie dies gelingt\, und wie beim Kitzeln besonders wirksam vorgegangen werden kann.\n⏵ ENGLISH ⏴\nTo prevent resistance from your tickling victims\, you better tie them up properly. This workshop explains how to achieve this – and how to be particularly effective when tickling. \nAnmeldung erforderlich! / Registration mandatory!Zur Anmeldung / Registration form
URL:https://quaelgeist.sm/event/bondage-kitzel-workshop-4/
LOCATION:Quälgeist Berlin e.V.\, Lankwitzer Straße 42/43\, Berlin\, 12107\, Deutschland
CATEGORIES:Open to all
END:VEVENT
BEGIN:VEVENT
DTSTART;TZID=Europe/Berlin:20250517T210000
DTEND;TZID=Europe/Berlin:20250517T210000
DTSTAMP:20260421T125217
CREATED:20250427T161732Z
LAST-MODIFIED:20250427T161732Z
UID:10000477-1747515600-1747515600@quaelgeist.sm
SUMMARY:All You Can Tickle (Bondage & Kitzeln)
DESCRIPTION:▼ ENGLISH BELOW ▼\nKille\, kille\, kille! – Ist es nicht fantastisch\, wenn der Spielpartner gefesselt ist\, sich nicht wehren kann und seine empfindlichsten Stellen abgekitzelt werden? Aber sicher! Und genau deshalb laden wir zum Kitzeln bis zum Abwinken ein. Nur für Männer*! \n\nKein Dresscode – Fetisch willkommen\n\n⏵ ENGLISH ⏴\nTickle\, tickle\, tickle! – Isn’t it wonderful to have your partner pretty tied up and defenceless while you tickle his most sensitive body parts? Of course it is! And that´s exactly why we invite you to tickle till you drop. For men only*! \n\nNo dresscode – fetish welcome\n\n \nVoranmeldung möglich / Pre-registration possibleZur Anmeldung / Registration form
URL:https://quaelgeist.sm/event/all-you-can-tickle-bondage-kitzeln-4/
LOCATION:Quälgeist Berlin e.V.\, Lankwitzer Straße 42/43\, Berlin\, 12107\, Deutschland
CATEGORIES:Gay
END:VEVENT
END:VCALENDAR