BEGIN:VCALENDAR
VERSION:2.0
PRODID:-//Quälgeist Berlin e.V. - ECPv6.15.18//NONSGML v1.0//EN
CALSCALE:GREGORIAN
METHOD:PUBLISH
X-WR-CALNAME:Quälgeist Berlin e.V.
X-ORIGINAL-URL:https://quaelgeist.sm
X-WR-CALDESC:Veranstaltungen für Quälgeist Berlin e.V.
REFRESH-INTERVAL;VALUE=DURATION:PT1H
X-Robots-Tag:noindex
X-PUBLISHED-TTL:PT1H
BEGIN:VTIMEZONE
TZID:Europe/Berlin
BEGIN:DAYLIGHT
TZOFFSETFROM:+0100
TZOFFSETTO:+0200
TZNAME:CEST
DTSTART:20240331T010000
END:DAYLIGHT
BEGIN:STANDARD
TZOFFSETFROM:+0200
TZOFFSETTO:+0100
TZNAME:CET
DTSTART:20241027T010000
END:STANDARD
BEGIN:DAYLIGHT
TZOFFSETFROM:+0100
TZOFFSETTO:+0200
TZNAME:CEST
DTSTART:20250330T010000
END:DAYLIGHT
BEGIN:STANDARD
TZOFFSETFROM:+0200
TZOFFSETTO:+0100
TZNAME:CET
DTSTART:20251026T010000
END:STANDARD
BEGIN:DAYLIGHT
TZOFFSETFROM:+0100
TZOFFSETTO:+0200
TZNAME:CEST
DTSTART:20260329T010000
END:DAYLIGHT
BEGIN:STANDARD
TZOFFSETFROM:+0200
TZOFFSETTO:+0100
TZNAME:CET
DTSTART:20261025T010000
END:STANDARD
END:VTIMEZONE
BEGIN:VEVENT
DTSTART;TZID=Europe/Berlin:20250802T180000
DTEND;TZID=Europe/Berlin:20250802T203000
DTSTAMP:20260421T144756
CREATED:20250731T132051Z
LAST-MODIFIED:20250731T132051Z
UID:10000558-1754157600-1754166600@quaelgeist.sm
SUMMARY:F*ing Machines
DESCRIPTION:Einlass bis 18:30:00 Uhr / Admission until 18:30:00   \n▼ ENGLISH BELOW ▼\nF*ing Machines sind nicht nur Fickmaschinen sondern wahre “fucking machines”\, also beliebige Geräte\, die sich für BDSM- und Fetisch-Sex eignen.\nDies reicht von Fick- und Melkmaschinen\, Massagestäben\, Tensgeräten\, Vakuumbetten\, Violet Wands\, Beatmungsgeräten\, über Hi-Tech Selfbondage\, Künstliche Intelligenz und Remote Control bis hin zu Virtual Reality und anderem audiovisuellem Input.\nAlles was die Lust bereichert und mit Strom oder Pneumatik funktioniert\, kommt hier zum Einsatz. \nDich begeistert ein Gerät\, und du möchtest andere an deiner Begeisterung teilhaben lassen? Dann schreibe eine E-Mail an cyberpunk@quaelgeist.sm\, damit du dein Gerät auf unserer Veranstaltung interessierten Gästen präsentieren und es ggf. auch am lebenden Objekt vorführen kannst. \n\nKein Dresscode – Fetisch willkommen\n\n⏵ ENGLISH ⏴\nF*ing Machines are not only fuck machines but veritable ´fucking machines´ – any devices suitable for BDSM and fetish sex.\nThis ranges from fucking and milking machines\, massage sticks\, tens devices\, vacuum beds\, violet wands\, respirators\, hi-tech self-bondage\, artificial intelligence and remote control to virtual reality and other audio-visual input.\nEverything that enriches pleasure and works with electricity or pneumatics is welcome here. \nAre you excited about a device and want to share your enthusiasm with others? Email us at cyberpunk@quaelgeist.sm to present your device to other guests at our event and to possibly even demonstrate it on a living object. \n\nNo dresscode – fetish welcome\n\n \nVoranmeldung möglich / Pre-registration possibleZur Anmeldung / Registration form
URL:https://quaelgeist.sm/event/fing-machines-8/
LOCATION:Quälgeist Berlin e.V.\, Lankwitzer Straße 42/43\, Berlin\, 12107\, Deutschland
CATEGORIES:Open to all
END:VEVENT
BEGIN:VEVENT
DTSTART;TZID=Europe/Berlin:20250802T210000
DTEND;TZID=Europe/Berlin:20250802T210000
DTSTAMP:20260421T144756
CREATED:20250801T162833Z
LAST-MODIFIED:20250801T162833Z
UID:10000559-1754168400-1754168400@quaelgeist.sm
SUMMARY:Bad Boys Bondage
DESCRIPTION:▼ ENGLISH BELOW ▼\nGearfetish-Bondage-Party (mit Gunge Area) für alle Männer* die sich zum Sex lieber an- als ausziehen. Nutze unsere Räumlichkeiten für Bondage und Spaß in Klamotten\, und stelle dich unter unsere Schleimdusche. Du willst eingeschleimt werden? Dann melde dich über unsere App oder auf unserer Webseite an\, und gebe in das Bemerkungsfeld “gunge” ein. \n\nDRESSCODE: Gangster\, Sagger\, Skater\, Biker\, Rubber\, Prolls\, Workgear\, Sportswear\, Emo\, Gothic\, Punk\, Skin\, Lycra & Uniform\n\n⏵ ENGLISH ⏴\nGearfetish bondage party for all men* who prefer to get dressed instead of undressed for sex. Have fun in our rooms with fetish bondage and get slimed in our gunge area. Do you want to get slimed? Then register via our app or on our website and enter ´gunge´ in the comments field. \n\nDRESSCODE: Gangster\, Sagger\, Skater\, Biker\, Rubber\, Chavs\, Workgear\, Sportswear\, Emo\, Gothic\, Punk\, Skin\, Lycra & Uniform\n\n \nVoranmeldung möglich / Pre-registration possibleZur Anmeldung / Registration form
URL:https://quaelgeist.sm/event/bad-boys-bondage-3/
LOCATION:Quälgeist Berlin e.V.\, Lankwitzer Straße 42/43\, Berlin\, 12107\, Deutschland
CATEGORIES:Gay
ATTACH;FMTTYPE=image/jpeg:https://quaelgeist.sm/wp-content/uploads/2024/02/badboysbondage-Kb4iac.tmp_.jpg
END:VEVENT
END:VCALENDAR