BEGIN:VCALENDAR
VERSION:2.0
PRODID:-//Quälgeist Berlin e.V. - ECPv6.15.18//NONSGML v1.0//EN
CALSCALE:GREGORIAN
METHOD:PUBLISH
X-ORIGINAL-URL:https://quaelgeist.sm
X-WR-CALDESC:Veranstaltungen für Quälgeist Berlin e.V.
REFRESH-INTERVAL;VALUE=DURATION:PT1H
X-Robots-Tag:noindex
X-PUBLISHED-TTL:PT1H
BEGIN:VTIMEZONE
TZID:Europe/Berlin
BEGIN:DAYLIGHT
TZOFFSETFROM:+0100
TZOFFSETTO:+0200
TZNAME:CEST
DTSTART:20240331T010000
END:DAYLIGHT
BEGIN:STANDARD
TZOFFSETFROM:+0200
TZOFFSETTO:+0100
TZNAME:CET
DTSTART:20241027T010000
END:STANDARD
BEGIN:DAYLIGHT
TZOFFSETFROM:+0100
TZOFFSETTO:+0200
TZNAME:CEST
DTSTART:20250330T010000
END:DAYLIGHT
BEGIN:STANDARD
TZOFFSETFROM:+0200
TZOFFSETTO:+0100
TZNAME:CET
DTSTART:20251026T010000
END:STANDARD
BEGIN:DAYLIGHT
TZOFFSETFROM:+0100
TZOFFSETTO:+0200
TZNAME:CEST
DTSTART:20260329T010000
END:DAYLIGHT
BEGIN:STANDARD
TZOFFSETFROM:+0200
TZOFFSETTO:+0100
TZNAME:CET
DTSTART:20261025T010000
END:STANDARD
END:VTIMEZONE
BEGIN:VEVENT
DTSTART;TZID=Europe/Berlin:20251213T140000
DTEND;TZID=Europe/Berlin:20251213T180000
DTSTAMP:20260423T135311
CREATED:20251020T180804Z
LAST-MODIFIED:20251020T180804Z
UID:10000687-1765634400-1765648800@quaelgeist.sm
SUMMARY:Learn the Ropes - Mummification
DESCRIPTION:Einlass bis 14:15 Uhr / Admission until 14:15   \n▼ ENGLISH BELOW ▼\nDiese Workshop-Reihe vermittelt den sicheren Umgang mit Seilen sowie die erforderlichen Kenntnisse zu den Risiken und deren Vermeidung. Sie baut teilweise aufeinander auf\, muss jedoch nicht vollständig besucht werden. Wir erwarten jedoch\, dass die jeweils angeführten Kenntnisse vorhanden sind. Es können eigene Seile mitgebracht oder vor Ort ausgeliehen werden.​​\n\nDiesmal weichen wir vom Thema Seile ab\, weil Dezember ist Geschenke Zeit und was gibt es schöneres\, als Geschenke zu verpacken\, das verpackte Geschenk sein zu können oder das Geschenk wieder auspacken zu können.\n\nWir lernen spielerisch den Umgang mit Folie und Tape\, probieren aus\, die*den Spielpartner*in zu mummifizieren\, was funktioniert\, was funktioniert weniger\, wie macht man eine Mumie möglicht ausbruchssiche ohne dass die gleich unbequem wird. Wie kann man auch alleine eine Person verpacken\, vor allem wenn das Subby schon praktisch bewegungsunfähig ist und dabei nicht mehr so viel unterstützen kann. Welche Risiken gibt es und wie kann man sie vermeiden bzw. ihre Auswirkungen reduzieren.\n\nWer möchte\, kann sich im geschützten Rahmen des Workshops nackt mummifizieren lassen\, wem Freizügigkeit nicht so gefällt\, kann auch die Unterwäsche anlassen. Alternativ empfehlen wir hautenge Klamotten\, die nicht zu sehr auftragen.  \n\nBegrenzte Teilnehmerzahl\nVoranmeldung erforderlich\nEintritt kostenfrei\, Spenden gerne gesehen\nKein Dresscode\, Fetish Willkommen – Wir empfehlen bequeme / hautenge Kleidung\nDieser Workshop wird auf Deutsch gehalten\, oft können Teilnehmer auf Englisch übersetzen\n\n\n\nFragen? Schreib uns eine Mail: Jens oder komm in unsere Telegramgruppe.\n \n► ENGLISH ◄\nIn this workshop series we teach the safe use of ropes as well as the necessary knowledge of the risks and their mitigation. The individual workshops are based on each other\, but it is not compulsory to attend them all. We do\, however\, expect the participants to have the knowledge listed in the deskriptions. You can bring your own ropes or borrow them on site.\n\nThis time we are departing from the topic of ropes\, because December is the season of presents\, and what could be better than wrapping gifts\, being the wrapped gift\, or unwrapping the gift again.\n\nWe learn how to use foil and tape in a playful way\, try out mummifying our play partner\, see what works and what doesn´t\, and how to make a mummy as escape-proof as possible without making it uncomfortable. How can you wrap a person on your own\, especially when the sub is practically immobile and can´t help you as much? What are the risks and how can you avoid them or reduce their effects?\n\nThose who wish to can be mummified naked in the protected environment of the workshop; those who are not so comfortable with nudity can also keep their underwear on. Alternatively\, we recommend skin-tight clothing that is not too bulky.  \n\nLimited number of participants\nregistration mandatory\nentrance free\, donations welcome\nNo Dresscode\, fetish welcome – We recommend comfortable / skintight clothes\nThis workshop will be held in German\, often there are participants who can interpret to English.\n\n\nAny questions? Send us an email: Jens or join our telegram group Telegram group. \nVoranmeldung möglich / Pre-registration possibleZur Anmeldung / Registration form
URL:https://quaelgeist.sm/event/learn-the-ropes-thema-steht-noch-nicht-fest-2/
LOCATION:Quälgeist Berlin e.V.\, Lankwitzer Straße 42/43\, Berlin\, 12107\, Deutschland
CATEGORIES:Open to all
ATTACH;FMTTYPE=image/jpeg:https://quaelgeist.sm/wp-content/uploads/2024/02/bondagehand-GGBJJx.tmp_.jpg
END:VEVENT
BEGIN:VEVENT
DTSTART;TZID=Europe/Berlin:20251213T200000
DTEND;TZID=Europe/Berlin:20251213T200000
DTSTAMP:20260423T135311
CREATED:20251210T173943Z
LAST-MODIFIED:20251210T173943Z
UID:10000688-1765656000-1765656000@quaelgeist.sm
SUMMARY:Sodom & Gomorrha
DESCRIPTION:▼ ENGLISH BELOW ▼\nAusschweifende BDSM- und Fetisch-Party biblischen Ausmaßes für Frauen* und Männer*.\nLass deine Göttin Pech und Schwefel auf dich herniederregnen oder – falls es an Gotteskraft mangelt – ein wenig Kerzenwachs und ein schlichtes Flogging. Oder was auch immer euch beliebt. Setzt Himmel und Hölle in Bewegung für Bondage\, Disziplin\, Sklaverei und D/s in allen Konstellationen ebenso\, wie für Sadomasochismus in Reinform. Für dominante Männer und devote Sklavinnen sowie für FemDoms und ihre unterwürfigen Männer. \n\nANGEMESSENE GARDEROBE: Abendkleid\, Anzug\, Fetisch oder gepflegtes Schwarz\n\n⏵ ENGLISH ⏴\nDebauched BDSM and fetish party of biblical proportions for women* and men*.\nLet your goddess rain fire and brimstone down on you\, or – if there’s a lack of godly power – a little candle wax and some plain simple flogging. Or whatever takes your fancy. Set heaven and hell in motion for bondage\, discipline\, slavery and D/s in all constellations as well as for sadomasochism in its purest form. For dominant men and submissive slaves as well as for FemDoms and their submissive men. \n\nAPPROPRIATE GARDEROBE: evening dress\, suit\, fetish or neat black.\n\n \nVoranmeldung möglich / Pre-registration possibleZur Anmeldung / Registration form
URL:https://quaelgeist.sm/event/sodom-gomorrha-20/
LOCATION:Quälgeist Berlin e.V.\, Lankwitzer Straße 42/43\, Berlin\, 12107\, Deutschland
CATEGORIES:Mixed
ATTACH;FMTTYPE=image/jpeg:https://quaelgeist.sm/wp-content/uploads/2024/02/sodom-7RWGJL.tmp_.jpg
END:VEVENT
END:VCALENDAR