BEGIN:VCALENDAR
VERSION:2.0
PRODID:-//Quälgeist Berlin e.V. - ECPv6.15.18//NONSGML v1.0//EN
CALSCALE:GREGORIAN
METHOD:PUBLISH
X-WR-CALNAME:Quälgeist Berlin e.V.
X-ORIGINAL-URL:https://quaelgeist.sm
X-WR-CALDESC:Veranstaltungen für Quälgeist Berlin e.V.
REFRESH-INTERVAL;VALUE=DURATION:PT1H
X-Robots-Tag:noindex
X-PUBLISHED-TTL:PT1H
BEGIN:VTIMEZONE
TZID:Europe/Berlin
BEGIN:DAYLIGHT
TZOFFSETFROM:+0100
TZOFFSETTO:+0200
TZNAME:CEST
DTSTART:20240331T010000
END:DAYLIGHT
BEGIN:STANDARD
TZOFFSETFROM:+0200
TZOFFSETTO:+0100
TZNAME:CET
DTSTART:20241027T010000
END:STANDARD
BEGIN:DAYLIGHT
TZOFFSETFROM:+0100
TZOFFSETTO:+0200
TZNAME:CEST
DTSTART:20250330T010000
END:DAYLIGHT
BEGIN:STANDARD
TZOFFSETFROM:+0200
TZOFFSETTO:+0100
TZNAME:CET
DTSTART:20251026T010000
END:STANDARD
BEGIN:DAYLIGHT
TZOFFSETFROM:+0100
TZOFFSETTO:+0200
TZNAME:CEST
DTSTART:20260329T010000
END:DAYLIGHT
BEGIN:STANDARD
TZOFFSETFROM:+0200
TZOFFSETTO:+0100
TZNAME:CET
DTSTART:20261025T010000
END:STANDARD
END:VTIMEZONE
BEGIN:VEVENT
DTSTART;TZID=Europe/Berlin:20251227T210000
DTEND;TZID=Europe/Berlin:20251227T210000
DTSTAMP:20260423T135458
CREATED:20251023T111745Z
LAST-MODIFIED:20251023T111745Z
UID:10000699-1766869200-1766869200@quaelgeist.sm
SUMMARY:Schmerzlich Willkommen - Painful Welcome
DESCRIPTION:▼ ENGLISH BELOW ▼\nWir heißen euch zu ganz besonderen Anlässen wie z.B. EASTER BERLIN\, FOLSOM EUROPE\, dem Berliner CSD oder auch zum Jahreswechsel willkommen.\nUnd da es sich um solch besondere Anlässe handelt\, holt ihr am besten alles vom Halsband bis hin zur Fetischgear aus dem Kleiderschrank und startet in ein Wochenende voller BDSM und Fetisch. Nur für Männer*! \n\nDresscode: Leder\, Gummi\, Uniform\, Skin\, Punk\, Skater\, Proll\, Arbeitsklamotten\, Sportswear & Lycra\n\n⏵ ENGLISH ⏴\nWe welcome you to very special occasions such as EASTER BERLIN\, FOLSOM EUROPE\, the Berlin Pride or the turn of the year.\nAnd since these are such special occasions\, you better dig in your wardrobe for everything from collars to fetish gear and start a weekend full of BDSM and fetish. For men only*! \n\nDresscode: Leather\, Rubber\, Uniform\, Skin\, Punk\, Skater\, Chav\, Workgear\, Sportswear & Lycra\n\nVoranmeldung möglich / Pre-registration possibleZur Anmeldung / Registration form
URL:https://quaelgeist.sm/event/schmerzlich-willkommen-painful-welcome-6/
LOCATION:Quälgeist Berlin e.V.\, Lankwitzer Straße 42/43\, Berlin\, 12107\, Deutschland
CATEGORIES:Gay
ATTACH;FMTTYPE=image/jpeg:https://quaelgeist.sm/wp-content/uploads/2024/02/Q-nMpsWn.tmp_.jpg
END:VEVENT
END:VCALENDAR