BEGIN:VCALENDAR
VERSION:2.0
PRODID:-//Quälgeist Berlin e.V. - ECPv6.15.18//NONSGML v1.0//EN
CALSCALE:GREGORIAN
METHOD:PUBLISH
X-WR-CALNAME:Quälgeist Berlin e.V.
X-ORIGINAL-URL:https://quaelgeist.sm
X-WR-CALDESC:Veranstaltungen für Quälgeist Berlin e.V.
REFRESH-INTERVAL;VALUE=DURATION:PT1H
X-Robots-Tag:noindex
X-PUBLISHED-TTL:PT1H
BEGIN:VTIMEZONE
TZID:Europe/Berlin
BEGIN:DAYLIGHT
TZOFFSETFROM:+0100
TZOFFSETTO:+0200
TZNAME:CEST
DTSTART:20250330T010000
END:DAYLIGHT
BEGIN:STANDARD
TZOFFSETFROM:+0200
TZOFFSETTO:+0100
TZNAME:CET
DTSTART:20251026T010000
END:STANDARD
BEGIN:DAYLIGHT
TZOFFSETFROM:+0100
TZOFFSETTO:+0200
TZNAME:CEST
DTSTART:20260329T010000
END:DAYLIGHT
BEGIN:STANDARD
TZOFFSETFROM:+0200
TZOFFSETTO:+0100
TZNAME:CET
DTSTART:20261025T010000
END:STANDARD
BEGIN:DAYLIGHT
TZOFFSETFROM:+0100
TZOFFSETTO:+0200
TZNAME:CEST
DTSTART:20270328T010000
END:DAYLIGHT
BEGIN:STANDARD
TZOFFSETFROM:+0200
TZOFFSETTO:+0100
TZNAME:CET
DTSTART:20271031T010000
END:STANDARD
END:VTIMEZONE
BEGIN:VEVENT
DTSTART;TZID=Europe/Berlin:20260101T180000
DTEND;TZID=Europe/Berlin:20260102T030000
DTSTAMP:20260421T175952
CREATED:20260101T150435Z
LAST-MODIFIED:20260101T150435Z
UID:10000707-1767290400-1767322800@quaelgeist.sm
SUMMARY:Katerfrühstück - Hangover Breakfast
DESCRIPTION:Die BDSM-Frühstücksparty am Neujahrstag für Frauen\, Männer & Trans_*. Rollmops und Sekt nach durchgurkter Silvesternacht. Wir schnappen uns die Reste.  \n\nKein Dresscode\, Fetisch willkommen\n\n\nBDSM breakfast party on New Years Day for women\, men & trans_*. Rollmops and champagne after New Years Eve. Let’s snap the scrapings. \n\nNo dresscode\, fetish welcome\n\nVoranmeldung möglich / Pre-registration possibleZur Anmeldung / Registration form
URL:https://quaelgeist.sm/event/katerfruehstueck-hangover-breakfast-2/
LOCATION:Quälgeist Berlin e.V.\, Lankwitzer Straße 42/43\, Berlin\, 12107\, Deutschland
CATEGORIES:Mixed
ATTACH;FMTTYPE=image/jpeg:https://quaelgeist.sm/wp-content/uploads/2024/02/Q-nMpsWn.tmp_.jpg
END:VEVENT
END:VCALENDAR