BEGIN:VCALENDAR
VERSION:2.0
PRODID:-//Quälgeist Berlin e.V. - ECPv6.15.18//NONSGML v1.0//EN
CALSCALE:GREGORIAN
METHOD:PUBLISH
X-WR-CALNAME:Quälgeist Berlin e.V.
X-ORIGINAL-URL:https://quaelgeist.sm
X-WR-CALDESC:Veranstaltungen für Quälgeist Berlin e.V.
REFRESH-INTERVAL;VALUE=DURATION:PT1H
X-Robots-Tag:noindex
X-PUBLISHED-TTL:PT1H
BEGIN:VTIMEZONE
TZID:Europe/Berlin
BEGIN:DAYLIGHT
TZOFFSETFROM:+0100
TZOFFSETTO:+0200
TZNAME:CEST
DTSTART:20250330T010000
END:DAYLIGHT
BEGIN:STANDARD
TZOFFSETFROM:+0200
TZOFFSETTO:+0100
TZNAME:CET
DTSTART:20251026T010000
END:STANDARD
BEGIN:DAYLIGHT
TZOFFSETFROM:+0100
TZOFFSETTO:+0200
TZNAME:CEST
DTSTART:20260329T010000
END:DAYLIGHT
BEGIN:STANDARD
TZOFFSETFROM:+0200
TZOFFSETTO:+0100
TZNAME:CET
DTSTART:20261025T010000
END:STANDARD
BEGIN:DAYLIGHT
TZOFFSETFROM:+0100
TZOFFSETTO:+0200
TZNAME:CEST
DTSTART:20270328T010000
END:DAYLIGHT
BEGIN:STANDARD
TZOFFSETFROM:+0200
TZOFFSETTO:+0100
TZNAME:CET
DTSTART:20271031T010000
END:STANDARD
END:VTIMEZONE
BEGIN:VEVENT
DTSTART;TZID=Europe/Berlin:20260102T210000
DTEND;TZID=Europe/Berlin:20260103T023000
DTSTAMP:20260423T134722
CREATED:20251230T083859Z
LAST-MODIFIED:20251230T083859Z
UID:10000708-1767387600-1767407400@quaelgeist.sm
SUMMARY:FFisten - FFisting
DESCRIPTION:▼ ENGLISH BELOW ▼\nDie Faust zu Gast bei Freunden … Fisten für Männer in sauberer Umgebung und heimischer Atmosphäre. Gleitschleim\, Handschuhe\, etc. werden zur Verfügung gestellt.  \n\nKein Dresscode\, Fetisch willkommen\n\n⏵ ENGLISH ⏴\nFist among friends … Fist fuck for men in a clean environment and welcoming atmosphere. Lube\, gloves\, etc. will be provided for.  \n\nNo dresscode\, fetish welcome\n\n \nVoranmeldung möglich / Pre-registration possibleZur Anmeldung / Registration form
URL:https://quaelgeist.sm/event/ffisten-ffisting-3/
LOCATION:Quälgeist Berlin e.V.\, Lankwitzer Straße 42/43\, Berlin\, 12107\, Deutschland
CATEGORIES:Gay
ATTACH;FMTTYPE=image/jpeg:https://quaelgeist.sm/wp-content/uploads/2024/02/q-ffist-logo-fQsNkM.tmp_.jpg
END:VEVENT
END:VCALENDAR