BEGIN:VCALENDAR
VERSION:2.0
PRODID:-//Quälgeist Berlin e.V. - ECPv6.15.18//NONSGML v1.0//EN
CALSCALE:GREGORIAN
METHOD:PUBLISH
X-WR-CALNAME:Quälgeist Berlin e.V.
X-ORIGINAL-URL:https://quaelgeist.sm
X-WR-CALDESC:Veranstaltungen für Quälgeist Berlin e.V.
REFRESH-INTERVAL;VALUE=DURATION:PT1H
X-Robots-Tag:noindex
X-PUBLISHED-TTL:PT1H
BEGIN:VTIMEZONE
TZID:Europe/Berlin
BEGIN:DAYLIGHT
TZOFFSETFROM:+0100
TZOFFSETTO:+0200
TZNAME:CEST
DTSTART:20250330T010000
END:DAYLIGHT
BEGIN:STANDARD
TZOFFSETFROM:+0200
TZOFFSETTO:+0100
TZNAME:CET
DTSTART:20251026T010000
END:STANDARD
BEGIN:DAYLIGHT
TZOFFSETFROM:+0100
TZOFFSETTO:+0200
TZNAME:CEST
DTSTART:20260329T010000
END:DAYLIGHT
BEGIN:STANDARD
TZOFFSETFROM:+0200
TZOFFSETTO:+0100
TZNAME:CET
DTSTART:20261025T010000
END:STANDARD
BEGIN:DAYLIGHT
TZOFFSETFROM:+0100
TZOFFSETTO:+0200
TZNAME:CEST
DTSTART:20270328T010000
END:DAYLIGHT
BEGIN:STANDARD
TZOFFSETFROM:+0200
TZOFFSETTO:+0100
TZNAME:CET
DTSTART:20271031T010000
END:STANDARD
END:VTIMEZONE
BEGIN:VEVENT
DTSTART;TZID=Europe/Berlin:20260103T130000
DTEND;TZID=Europe/Berlin:20260103T173000
DTSTAMP:20260421T175952
CREATED:20251227T125211Z
LAST-MODIFIED:20251227T125211Z
UID:10000765-1767445200-1767461400@quaelgeist.sm
SUMMARY:Furry Stammtisch - Furry Munch
DESCRIPTION:Einlass bis 14:30 Uhr / Admission until 14:30   \n▼ ENGLISH BELOW ▼\nWir heißen alle kinky Furries und ihre Freunde herzlich willkommen zu unserem gemütlichen Stammtisch. Wir wollen einen sicheren und geschützten Raum für Furs\, die sich sonst nicht trauen\, bei öffentlichen Veranstaltungen ihre Kinks auszuleben. Hier könnt ihr euch austoben\, ohne für eure Kinks und euer Furry-Sein verurteilt oder gar fetischisiert zu werden. \n\nNähere Informationen findest du hier \n\nWenn du noch nicht beim Stammtisch warst und/oder nicht aus der Furry-Community bist\, melde dich bitte unter furry@quaelgeist.sm oder per Telegram an (Morley\, Jens & Sazi). \n\nKein Dresscode – Fursuits oder Fetisch willkommen\nOffen für alle\nUm Anmeldung per Mail oder Telegram wird gebeten\n\n⏵ ENGLISH ⏴\nWe warmly welcome all kinky furries and their friends to our cozy munch. We want to create a safe and protected space for furries who otherwise don´t dare to live out their kinks at public events. Here you can let loose without being judged or fetishized for your kinks and your furry nature. \n\nMore information about out munch you find here \n\nNo dresscode – fursuit or fetish welcome\nOpen for all\nPlease register via Mail or Telegram\n\n \nVoranmeldung möglich / Pre-registration possibleZur Anmeldung / Registration form
URL:https://quaelgeist.sm/event/furry-stammtisch-furry-munch-6/
LOCATION:Quälgeist Berlin e.V.\, Lankwitzer Straße 42/43\, Berlin\, 12107\, Deutschland
CATEGORIES:Open to all
ATTACH;FMTTYPE=image/jpeg:https://quaelgeist.sm/wp-content/uploads/2024/02/Q-nMpsWn.tmp_.jpg
END:VEVENT
BEGIN:VEVENT
DTSTART;TZID=Europe/Berlin:20260103T180000
DTEND;TZID=Europe/Berlin:20260103T210000
DTSTAMP:20260421T175952
CREATED:20250906T164141Z
LAST-MODIFIED:20250906T164141Z
UID:10000709-1767463200-1767474000@quaelgeist.sm
SUMMARY:BDSM-Einsteiger-Workshop - BDSM Beginners Workshop
DESCRIPTION:Einlass bis 18:15 Uhr / Admission until 18:15   \n▼ ENGLISH BELOW ▼\nBDSM – Hinter diesen vier Buchstaben verbirgt sich mehr\, als im ersten Moment zu vermuten wäre. Dieser Workshop soll einen Überblick über die vielfältigen Spielmöglichkeiten im Quälgeist verschaffen. Er richtet sich nicht nur an Anfänger\, sondern auch an alle\, die ihren Horizont in Bezug auf sexuelle Rollenspiele in unseren Räumlichkeiten erweitern möchten. \n⏵ ENGLISH ⏴\nBDSM – These 4 simple letters conceal more than meets the eye. This workshop wants to give an overview of the diverse play offerings at Quälgeist. It is not only aimed at beginners\, but also at anyone who would like to broaden their horizons in terms of sexual role play at our club. \nAnmeldung erforderlich! / Registration mandatory!Zur Anmeldung / Registration form
URL:https://quaelgeist.sm/event/bdsm-einsteiger-workshop-bdsm-beginners-workshop-5/
LOCATION:Quälgeist Berlin e.V.\, Lankwitzer Straße 42/43\, Berlin\, 12107\, Deutschland
CATEGORIES:Open to all
END:VEVENT
BEGIN:VEVENT
DTSTART;TZID=Europe/Berlin:20260103T210000
DTEND;TZID=Europe/Berlin:20260104T040000
DTSTAMP:20260421T175952
CREATED:20251231T110900Z
LAST-MODIFIED:20251231T110900Z
UID:10000652-1767474000-1767499200@quaelgeist.sm
SUMMARY:Q Youngsters Night
DESCRIPTION:▼ ENGLISH BELOW ▼\nBDSM-Party für junge Männer zwischen 18 und 35 Jahren mit oder ohne Fetischklamotten. Tobe und probiere dich mit Gleichaltrigen in Sachen BDSM und Fetisch so richtig aus!\nInfochannel bei Telegram: https://t.me/QGYoungsters \n\nNur für Männer* zwischen 18 und 35\nKein Dresscode – Fetisch willkommen\n\n⏵ ENGLISH ⏴\nBDSM party for young men aged 18-35 with or without fetish gear. Have fun with guys your age and take a shot at all new BDSM & fetish experiences!\nInfochannel on Telegram: https://t.me/QGYoungsters \n\nOnly for men* between 18 and 35\nNo dresscode – fetish welcome\n\n \nVoranmeldung möglich / Pre-registration possibleZur Anmeldung / Registration form
URL:https://quaelgeist.sm/event/q-youngsters-night-7/
LOCATION:Quälgeist Berlin e.V.\, Lankwitzer Straße 42/43\, Berlin\, 12107\, Deutschland
CATEGORIES:Gay
ATTACH;FMTTYPE=image/jpeg:https://quaelgeist.sm/wp-content/uploads/2024/02/youngsters-8Y3UoL.tmp_.jpg
END:VEVENT
END:VCALENDAR