BEGIN:VCALENDAR
VERSION:2.0
PRODID:-//Quälgeist Berlin e.V. - ECPv6.15.18//NONSGML v1.0//EN
CALSCALE:GREGORIAN
METHOD:PUBLISH
X-ORIGINAL-URL:https://quaelgeist.sm
X-WR-CALDESC:Veranstaltungen für Quälgeist Berlin e.V.
REFRESH-INTERVAL;VALUE=DURATION:PT1H
X-Robots-Tag:noindex
X-PUBLISHED-TTL:PT1H
BEGIN:VTIMEZONE
TZID:Europe/Berlin
BEGIN:DAYLIGHT
TZOFFSETFROM:+0100
TZOFFSETTO:+0200
TZNAME:CEST
DTSTART:20250330T010000
END:DAYLIGHT
BEGIN:STANDARD
TZOFFSETFROM:+0200
TZOFFSETTO:+0100
TZNAME:CET
DTSTART:20251026T010000
END:STANDARD
BEGIN:DAYLIGHT
TZOFFSETFROM:+0100
TZOFFSETTO:+0200
TZNAME:CEST
DTSTART:20260329T010000
END:DAYLIGHT
BEGIN:STANDARD
TZOFFSETFROM:+0200
TZOFFSETTO:+0100
TZNAME:CET
DTSTART:20261025T010000
END:STANDARD
BEGIN:DAYLIGHT
TZOFFSETFROM:+0100
TZOFFSETTO:+0200
TZNAME:CEST
DTSTART:20270328T010000
END:DAYLIGHT
BEGIN:STANDARD
TZOFFSETFROM:+0200
TZOFFSETTO:+0100
TZNAME:CET
DTSTART:20271031T010000
END:STANDARD
END:VTIMEZONE
BEGIN:VEVENT
DTSTART;TZID=Europe/Berlin:20260121T190000
DTEND;TZID=Europe/Berlin:20260121T230000
DTSTAMP:20260421T174625
CREATED:20251217T232445Z
LAST-MODIFIED:20251217T232445Z
UID:10000788-1769022000-1769036400@quaelgeist.sm
SUMMARY:Kinky Hypnose Stammtisch & Workshop: Hypnose für Anfänger*innen
DESCRIPTION:Einlass bis 19:15 Uhr / Admission until 19:15   \n▼ ENGLISH BELOW ▼\nHypnose und BDSM sind näher verwandt als viele annehmen\, denn der Subspace ist einer Trance sehr ähnlich.\nWir bieten einen Workshop und parallel einen Stammtisch für alle Interresierten zum Thema ´Erotische & Kinky Hypnose´.\nDas Thema des Workshop variiert von Monat zu Monat und wird jeweils im Vormonat festgelegt. Vom Anfängerworkshop\, der alle 4 Monate angeboten wird\, bis hin zu Experten Themen ist alles mögliche dabei.\n\nDer Stammtisch ist für alle\, die einfach einen entspannten Abend verbringen wollen\, mit anderen Fachsimpeln wollen\, die vielleicht das Workshopthema schonmal gesehen haben oder vielleicht noch etwas Erfahrung sammeln wollen bevor sie sich an das Workshop-Thema rantrauen.\n\nNach dem Workshop kann gerne geübt & (ruhig) gespielt werden. \n\nThema für Januar: Kinky & Erotische Hypnose – Hypnose für Anfänger*innen \nMit diesem Workshop wollen wir allen Anfänger*innen eine Chance geben um ganz frisch in das Thema einzusteigen. Wir werden uns mit dem Thema auseinandersetzen\, was ist erotische Hypnose\, was kann man damit erreichen und was sind was sind nur Mythen und was sind die Risiken\, die man damit eingeht. Dazu wollen wir dir einen erste Möglichkeit geben\, es selbst aktiv und/oder passiv auszuprobieren. \n\nEinlass: 19:00 – 19:15 (auch für den Stammtisch)\nWorkshop 19:15 – 21:30\nStammtisch: 19:00 – 23:00\nBegrenzte Teilnehmerzahl für den Workshop\nVoranmeldung erforderlich für den Workshop\, wir empfehlen Anmeldung mit Partnerperson\, für die Übungen\nWorkshop wird auf deutsch gehalten\, oft können andere Teilnehmer*innen übersetzen\, Handout oft auf Englisch verfügbar\nFür Teilnahme ausschließlich am Stammtisch bitte nicht anmelden\nEintritt kostenfrei\, Spenden herzlich willkommen\n Kein Dresscode\, Fetish willkommen\n Offen für alle (unabhängig von Geschlechts und Sexueller Orientierung)\n\nFragen? Schreib uns eine Mail: jens@quaelgeist.sm\n⏵ ENGLISH ⏴ \n\nHypnosis and BDSM are more closely related than many people think\, because the subspace is very similar to a trance.\nWe offer a workshop and at the same time a get-together for all interested people on the subject of “Erotic & Kinky Hypnosis”.\n  \nThe topic of the workshop varies from month to month and is determined the month before. From beginners´ workshops\, which are offered every 4 months\, to expert topics\, everything is covered.\n  \nThe get-together is for all those who simply want to spend a relaxed evening\, talk shop with others who may have seen the workshop topic before or perhaps want to gain some experience before tackling the workshop topic.\n  \nAfter the workshop you are welcome to practice & (quietly) play. \n\nTopic for January: Hypnosis for Beginners \n\nWith this workshop we want that all beginners have a chance to get freshly into the topic. We will look at the topic\, what is erotic hypnosis\, what can you achieve with it and what are the myths and what are the risks you are taking with it. Additionally we want to give you the chance to try it out\, hypnotize someone or get hypnotized. \n\nNote: The workshop is held in German\, we have often other participants that can interpret. The workshop and munch faciliators speak English so you can ask questions or give Feedback in English.  We can provide the workshop handout in English. Please write a short mail to the workshop facilliator so that we can prepare.  \n\nDoor open: 19:00 – 19:15 (also for the get-together)\nWorkshop: 19:15 – 21:30\nGet-together: 19:00-23:00\nLimited number of participants for the workshop\nRegistration mandatory for the workshop\, we recommend to register with a partner for the excercises\nDon´t register if you only want to participate a the get-together only\nFree entry\, donations welcome\nNo dresscode\, fetish welcome\nOpen for all (independent of sexuality and gender)\n\nAny questions? Send us an email: jens@quaelgeist.sm \nVoranmeldung möglich / Pre-registration possibleZur Anmeldung / Registration form
URL:https://quaelgeist.sm/event/kinky-hypnose-stammtisch-workshop-kinky-erotische-hypnose-was-ist-hypnose-und-was-kann-das/
LOCATION:Quälgeist Berlin e.V.\, Lankwitzer Straße 42/43\, Berlin\, 12107\, Deutschland
CATEGORIES:Open to all
ATTACH;FMTTYPE=image/jpeg:https://quaelgeist.sm/wp-content/uploads/2024/02/Q-nMpsWn.tmp_.jpg
END:VEVENT
END:VCALENDAR