BEGIN:VCALENDAR
VERSION:2.0
PRODID:-//Quälgeist Berlin e.V. - ECPv6.15.18//NONSGML v1.0//EN
CALSCALE:GREGORIAN
METHOD:PUBLISH
X-WR-CALNAME:Quälgeist Berlin e.V.
X-ORIGINAL-URL:https://quaelgeist.sm
X-WR-CALDESC:Veranstaltungen für Quälgeist Berlin e.V.
REFRESH-INTERVAL;VALUE=DURATION:PT1H
X-Robots-Tag:noindex
X-PUBLISHED-TTL:PT1H
BEGIN:VTIMEZONE
TZID:Europe/Berlin
BEGIN:DAYLIGHT
TZOFFSETFROM:+0100
TZOFFSETTO:+0200
TZNAME:CEST
DTSTART:20230326T010000
END:DAYLIGHT
BEGIN:STANDARD
TZOFFSETFROM:+0200
TZOFFSETTO:+0100
TZNAME:CET
DTSTART:20231029T010000
END:STANDARD
BEGIN:DAYLIGHT
TZOFFSETFROM:+0100
TZOFFSETTO:+0200
TZNAME:CEST
DTSTART:20240331T010000
END:DAYLIGHT
BEGIN:STANDARD
TZOFFSETFROM:+0200
TZOFFSETTO:+0100
TZNAME:CET
DTSTART:20241027T010000
END:STANDARD
BEGIN:DAYLIGHT
TZOFFSETFROM:+0100
TZOFFSETTO:+0200
TZNAME:CEST
DTSTART:20250330T010000
END:DAYLIGHT
BEGIN:STANDARD
TZOFFSETFROM:+0200
TZOFFSETTO:+0100
TZNAME:CET
DTSTART:20251026T010000
END:STANDARD
END:VTIMEZONE
BEGIN:VEVENT
DTSTART;TZID=Europe/Berlin:20241117T150000
DTEND;TZID=Europe/Berlin:20241117T230000
DTSTAMP:20260421T144707
CREATED:20241012T123309Z
LAST-MODIFIED:20241012T123309Z
UID:10000331-1731855600-1731884400@quaelgeist.sm
SUMMARY:Playtime - Die Windel- & AgePlay-Playparty - Playtime - The ABDL- & AgePlay Play Party
DESCRIPTION:▼ ENGLISH BELOW ▼\nWir laden zum Spielen ein – mit genügend Zeit\, um sich im Bällebad auszutoben\, Geschichten vorzulesen\, an der Konsole zu zocken und sich allem hinzugeben\, was Littles Spaß macht. Offen für alle unabhängig von Geschlecht\, Gender und sexueller Orientierung. \n\nKein Dresscode – Fetisch willkommen\n\n⏵ ENGLISH ⏴\nWe invite you to play – with enough time to let off steam in the ball pool\, read stories\, play console games and indulge yourself in whatever little ones enjoy. Open to all\, regardless of sex\, gender and sexual orientation.  \n\nNo dresscode – fetish welcome!\n\n \nVoranmeldung möglich / Pre-registration possibleZur Anmeldung / Registration form
URL:https://quaelgeist.sm/event/playtime-die-windel-ageplay-playparty-playtime-the-abdl-ageplay-play-party/
LOCATION:Quälgeist Berlin e.V.\, Lankwitzer Straße 42/43\, Berlin\, 12107\, Deutschland
CATEGORIES:Open to all
END:VEVENT
BEGIN:VEVENT
DTSTART;TZID=Europe/Berlin:20241027T160000
DTEND;TZID=Europe/Berlin:20241027T230000
DTSTAMP:20260421T144707
CREATED:20240822T185210Z
LAST-MODIFIED:20240822T185210Z
UID:10000136-1730044800-1730070000@quaelgeist.sm
SUMMARY:Sonntagsschule - Sunday School
DESCRIPTION:▼ ENGLISH BELOW ▼\nAgeplay-Chillout und Disziplinierung von ungezogenen Mädchen und Jungs.\nWährend es sich die braven „Littles“ frisch gewickelt bei Cartoons und Kuchen gemütlich machen\, können alle\, die nicht brav waren\, in unseren Räumlichkeiten bestraft werden. Und da am Sonntag stets nur die besten Sachen getragen werden\, freuen wir uns auf Knaben in Krachledernen\, Sissy-Kleidchen und allem anderen\, was der Kleiderschrank hergibt.\nFür diese Veranstaltung ist eine Anmeldung zwingend erforderlich. \n\nKein Dresscode – Fetisch willkommen\nOffen für alle unabhängig von Geschlecht\, Gender und sexueller Orientierung.\n\nFragen? Schreib uns eine Mail: ferienlager@quaelgeist.sm\nSchau auch gerne auch auf unsere Infoseite\n⏵ ENGLISH ⏴\nAgeplay chillout and disciplining of naughty girls and boys.\nWhile the freshly swaddled virtuous ´little ones´ make themselves comfortable with cartoons and cake\, all the less well-behaved must be punished. And since one dresses at its best on Sundays\, we´re looking forward to seeing knickerbocker boys and sissy dresses as well as anything else your wardrobe has to offer.\nRegistration for this event is mandatory! \n\nNo dresscode – fetish welcome\nOpen to all\, regardless of sex\, gender and sexual orientation.\n\nAny questions? Send us an email: ferienlager@quaelgeist.smYou may also want to take a look at our info page. \nAnmeldung erforderlich! / Registration mandatory!Zur Anmeldung / Registration form
URL:https://quaelgeist.sm/event/sonntagsschule-sunday-school-2/
LOCATION:Quälgeist Berlin e.V.\, Lankwitzer Straße 42/43\, Berlin\, 12107\, Deutschland
CATEGORIES:Open to all
END:VEVENT
BEGIN:VEVENT
DTSTART;TZID=Europe/Berlin:20241026T160000
DTEND;TZID=Europe/Berlin:20241026T160000
DTSTAMP:20260421T144707
CREATED:20240822T185210Z
LAST-MODIFIED:20240822T185210Z
UID:10000135-1729958400-1729958400@quaelgeist.sm
SUMMARY:Krabbelgruppe - Nappy Play Group
DESCRIPTION:▼ ENGLISH BELOW ▼\nDas große Ageplay-Event im Quälgeist.\nLass das Kind in dir raus oder kümmere dich um die „Kleinen“. Neben Windeln sind alle anderen Ageplay-bezogenen Fetische willkommen\, darunter natürlich ABDL\, Schulmädchen und Zöglinge\, Sissys und Dolls\, Babyfurs oder böse Tanten. Unsere Räume bieten alles\, was das kleine Herz begehrt: Großer Laufstall\, Malecke\, Klassenraum\, Jugendzimmer mit Spielekonsole und Bällebad. \nFür diese Veranstaltung ist eine Anmeldung zwingend erforderlich. \n\nOffen für alle unabhängig von Geschlecht\, Gender und sexueller Orientierung.\nKein Dresscode – Fetisch willkommen \nEine Übernachtungsmöglichkeit können wir leider nicht anbieten.\n\nFragen? Schreib uns eine Mail: ferienlager@quaelgeist.sm\nSchau auch gerne auch auf unsere Infoseite\n⏵ ENGLISH ⏴\nThe big ageplay event at Quälgeist.\nLet out the inner child or take care of the ´little ones´. All other ageplay related fetishes besides diapers are welcome\, including of course ABDL\, school girls and boys\, sissies and dolls\, baby furs or evil aunties. Our rooms offer everything the little heart desires: Large playpen\, coloring corner\, classroom\, teen room with games console and ball pool. \nRegistration for this event is mandatory! \n\nOpen to all\, regardless of sex\, gender and sexual orientation.\nNo dresscode – Fetish welcome \nUnfortunately\, we can not offer any overnight accomodations.\n\nAny questions? Send us an email: ferienlager@quaelgeist.sm\nYou may also want to take a look at our info page. \nAnmeldung erforderlich! / Registration mandatory!Zur Anmeldung / Registration form
URL:https://quaelgeist.sm/event/krabbelgruppe-nappy-play-group-2/
LOCATION:Quälgeist Berlin e.V.\, Lankwitzer Straße 42/43\, Berlin\, 12107\, Deutschland
CATEGORIES:Open to all
END:VEVENT
BEGIN:VEVENT
DTSTART;TZID=Europe/Berlin:20241025T200000
DTEND;TZID=Europe/Berlin:20241025T200000
DTSTAMP:20260421T144707
CREATED:20240822T185209Z
LAST-MODIFIED:20240822T185209Z
UID:10000134-1729886400-1729886400@quaelgeist.sm
SUMMARY:Nappies for a Change
DESCRIPTION:▼ ENGLISH BELOW ▼\nAuftakt-Playparty zum Windel- und Ageplay-Wochenende für Adult Babies\, Windeljungs\, leidenschaftliche Windelpisser sowie deren Wickler und Erzieher. Unsere Räume bieten alles\, was das kleine Herz begehrt: Großer Laufstall\, Malecke\, Klassenraum\, Jugendzimmer mit Spielekonsole und Bällebad. \nFür diese Veranstaltung ist eine Anmeldung zwingend erforderlich. \n\nNur für Männer*\nDresscode: Das Tragen einer Windel ist Pflicht. \nSpanner haben keinen Zutritt. \nEine Übernachtungsmöglichkeit können wir leider nicht anbieten.\n\nFragen? Schreib uns eine Mail: ferienlager@quaelgeist.sm\nSchau auch gerne auch auf unsere Infoseite\n⏵ ENGLISH ⏴\nKick-off playparty for the nappy and ageplay weekend for adult babies\, diaper boys and passionate bedwetters as well as their diaper changers and educators. Our rooms offer everything the little heart desires: Large playpen\, coloring corner\, classroom\, teen room with games console and ball pool.\nRegistration for this event is mandatory! \n\nMen only*\nDresscode: Wearing diapers/nappies is mandatory.\nPeeping Tom´s will not be allowed admission.\nUnfortunately\, we can not offer any overnight accomodations.\n\nAny questions? Send us an email: ferienlager@quaelgeist.sm\nYou may also want to take a look at our info page. \nAnmeldung erforderlich! / Registration mandatory!Zur Anmeldung / Registration form
URL:https://quaelgeist.sm/event/nappies-for-a-change-2/
LOCATION:Quälgeist Berlin e.V.\, Lankwitzer Straße 42/43\, Berlin\, 12107\, Deutschland
CATEGORIES:Gay
END:VEVENT
BEGIN:VEVENT
DTSTART;TZID=Europe/Berlin:20240818T150000
DTEND;TZID=Europe/Berlin:20240818T230000
DTSTAMP:20260421T144707
CREATED:20240703T192305Z
LAST-MODIFIED:20240707T172404Z
UID:10000230-1723993200-1724022000@quaelgeist.sm
SUMMARY:Playtime - Der Windel- & AgePlay-Stammtisch - Playtime - The ABDL- & AgePlay Munch
DESCRIPTION:▼ ENGLISH BELOW ▼\nWir laden zum Spielen ein – mit genügend Zeit\, um sich im Bällebad auszutoben\, Geschichten vorzulesen\, an der Konsole zu zocken und sich allem hinzugeben\, was Littles Spaß macht. Offen für alle unabhängig von Geschlecht\, Gender und sexueller Orientierung. \n\nKein Dresscode – Fetisch willkommen\n\n⏵ ENGLISH ⏴\nWe invite you to play – with enough time to let off steam in the ball pool\, read stories\, play console games and indulge yourself in whatever little ones enjoy. Open to all\, regardless of sex\, gender and sexual orientation.  \n\nNo dresscode – fetish welcome!\n\n  \nVoranmeldung möglich / Pre-registration possible\nZur Anmeldung / Registration form
URL:https://quaelgeist.sm/event/playtime-der-windel-ageplay-stammtisch-playtime-the-abdl-ageplay-munch-2/
LOCATION:Quälgeist Berlin e.V.\, Lankwitzer Straße 42/43\, Berlin\, 12107\, Deutschland
CATEGORIES:Open to all
ATTACH;FMTTYPE=image/jpeg:https://quaelgeist.sm/wp-content/uploads/2024/02/q-logo-abdl-6IvRQh.tmp_.jpg
END:VEVENT
BEGIN:VEVENT
DTSTART;TZID=Europe/Berlin:20240728T150000
DTEND;TZID=Europe/Berlin:20240728T230000
DTSTAMP:20260421T144707
CREATED:20240521T204325Z
LAST-MODIFIED:20240707T172334Z
UID:10000210-1722178800-1722207600@quaelgeist.sm
SUMMARY:Playtime - Der Windel- & AgePlay-Stammtisch - Playtime - The ABDL- & AgePlay Munch
DESCRIPTION:▼ ENGLISH BELOW ▼\nWir laden zum Spielen ein – mit genügend Zeit\, um sich im Bällebad auszutoben\, Geschichten vorzulesen\, an der Konsole zu zocken und sich allem hinzugeben\, was Littles Spaß macht. Offen für alle unabhängig von Geschlecht\, Gender und sexueller Orientierung. \n\nKein Dresscode – Fetisch willkommen\n\n⏵ ENGLISH ⏴\nWe invite you to play – with enough time to let off steam in the ball pool\, read stories\, play console games and indulge yourself in whatever little ones enjoy. Open to all\, regardless of sex\, gender and sexual orientation.  \n\nNo dresscode – fetish welcome!\n\n  \nVoranmeldung möglich / Pre-registration possible\nZur Anmeldung / Registration form
URL:https://quaelgeist.sm/event/playtime-der-windel-ageplay-stammtisch-playtime-the-abdl-ageplay-munch-3/
LOCATION:Quälgeist Berlin e.V.\, Lankwitzer Straße 42/43\, Berlin\, 12107\, Deutschland
CATEGORIES:Open to all
END:VEVENT
BEGIN:VEVENT
DTSTART;TZID=Europe/Berlin:20240630T160000
DTEND;TZID=Europe/Berlin:20240630T230000
DTSTAMP:20260421T144707
CREATED:20240620T003133Z
LAST-MODIFIED:20240620T003133Z
UID:10000033-1719763200-1719788400@quaelgeist.sm
SUMMARY:Sonntagsschule - Sunday School
DESCRIPTION:▼ ENGLISH BELOW ▼\nAgeplay-Chillout und Disziplinierung von ungezogenen Mädchen und Jungs.\nWährend es sich die braven „Littles“ frisch gewickelt bei Cartoons und Kuchen gemütlich machen\, können alle\, die nicht brav waren\, in unseren Räumlichkeiten bestraft werden. Und da am Sonntag stets nur die besten Sachen getragen werden\, freuen wir uns auf Knaben in Krachledernen\, Sissy-Kleidchen und allem anderen\, was der Kleiderschrank hergibt.\nFür diese Veranstaltung ist eine Anmeldung zwingend erforderlich. Die Anmeldung beginnt am 1. April 2024 um 14 Uhr. \n\nKein Dresscode – Fetisch willkommen\nOffen für alle unabhängig von Geschlecht\, Gender und sexueller Orientierung.\n\nFragen? Schreib uns eine Mail: ferienlager@quaelgeist.sm\nSchau auch gerne auch auf unsere Infoseite\n⏵ ENGLISH ⏴\nAgeplay chillout and disciplining of naughty girls and boys.\nWhile the freshly swaddled virtuous ´little ones´ make themselves comfortable with cartoons and cake\, all the less well-behaved must be punished. And since one dresses at its best on Sundays\, we´re looking forward to seeing knickerbocker boys and sissy dresses as well as anything else your wardrobe has to offer.\nRegistration for this event is mandatory! Registration starts on 1 April 2024 at 2 pm. \n\nNo dresscode – fetish welcome\nOpen to all\, regardless of sex\, gender and sexual orientation.\n\nAny questions? Send us an email: ferienlager@quaelgeist.smYou may also want to take a look at our info page. \nAnmeldung erforderlich! / Registration mandatory!Zur Anmeldung / Registration form
URL:https://quaelgeist.sm/event/sonntagsschule-sunday-school/
LOCATION:Quälgeist Berlin e.V.\, Lankwitzer Straße 42/43\, Berlin\, 12107\, Deutschland
CATEGORIES:Open to all
ATTACH;FMTTYPE=image/jpeg:https://quaelgeist.sm/wp-content/uploads/2024/02/q-logo-abdl-6IvRQh.tmp_.jpg
END:VEVENT
BEGIN:VEVENT
DTSTART;TZID=Europe/Berlin:20240629T160000
DTEND;TZID=Europe/Berlin:20240629T160000
DTSTAMP:20260421T144707
CREATED:20240620T002800Z
LAST-MODIFIED:20240620T002800Z
UID:10000032-1719676800-1719676800@quaelgeist.sm
SUMMARY:Krabbelgruppe - Nappy Play Group
DESCRIPTION:▼ ENGLISH BELOW ▼\nDas große Ageplay-Event im Quälgeist.\nLass das Kind in dir raus oder kümmere dich um die „Kleinen“. Neben Windeln sind alle anderen Ageplay-bezogenen Fetische willkommen\, darunter natürlich ABDL\, Schulmädchen und Zöglinge\, Sissys und Dolls\, Babyfurs oder böse Tanten. Unsere Räume bieten alles\, was das kleine Herz begehrt: Großer Laufstall\, Malecke\, Klassenraum\, Jugendzimmer mit Spielekonsole und Bällebad. \nFür diese Veranstaltung ist eine Anmeldung zwingend erforderlich. Die Anmeldung beginnt am 1. April 2024 um 14 Uhr. \n\nOffen für alle unabhängig von Geschlecht\, Gender und sexueller Orientierung.\nKein Dresscode – Fetisch willkommen \nEine Übernachtungsmöglichkeit können wir leider nicht anbieten.\n\nFragen? Schreib uns eine Mail: ferienlager@quaelgeist.sm\nSchau auch gerne auch auf unsere Infoseite\n⏵ ENGLISH ⏴\nThe big ageplay event at Quälgeist.\nLet out the inner child or take care of the ´little ones´. All other ageplay related fetishes besides diapers are welcome\, including of course ABDL\, school girls and boys\, sissies and dolls\, baby furs or evil aunties. Our rooms offer everything the little heart desires: Large playpen\, coloring corner\, classroom\, teen room with games console and ball pool. \nRegistration for this event is mandatory! Registration starts on 1 April 2024 at 2 pm. \n\nOpen to all\, regardless of sex\, gender and sexual orientation.\nNo dresscode – Fetish welcome \nUnfortunately\, we can not offer any overnight accomodations.\n\nAny questions? Send us an email: ferienlager@quaelgeist.sm\nYou may also want to take a look at our info page. \nAnmeldung erforderlich! / Registration mandatory!Zur Anmeldung / Registration form
URL:https://quaelgeist.sm/event/krabbelgruppe-nappy-play-group/
LOCATION:Quälgeist Berlin e.V.\, Lankwitzer Straße 42/43\, Berlin\, 12107\, Deutschland
CATEGORIES:Open to all
ATTACH;FMTTYPE=image/jpeg:https://quaelgeist.sm/wp-content/uploads/2024/02/q-logo-abdl-6IvRQh.tmp_.jpg
END:VEVENT
BEGIN:VEVENT
DTSTART;TZID=Europe/Berlin:20240628T200000
DTEND;TZID=Europe/Berlin:20240628T200000
DTSTAMP:20260421T144707
CREATED:20240606T211743Z
LAST-MODIFIED:20240606T211743Z
UID:10000031-1719604800-1719604800@quaelgeist.sm
SUMMARY:Nappies for a Change
DESCRIPTION:▼ ENGLISH BELOW ▼\nAuftakt-Playparty zum Windel- und Ageplay-Wochenende für Adult Babies\, Windeljungs\, leidenschaftliche Windelpisser sowie deren Wickler und Erzieher. Unsere Räume bieten alles\, was das kleine Herz begehrt: Großer Laufstall\, Malecke\, Klassenraum\, Jugendzimmer mit Spielekonsole und Bällebad. \nFür diese Veranstaltung ist eine Anmeldung zwingend erforderlich. Die Anmeldung beginnt am 1. April 2024 um 14 Uhr. \n\nNur für Männer*\nDresscode: Das Tragen einer Windel ist Pflicht. \nSpanner haben keinen Zutritt. \nEine Übernachtungsmöglichkeit können wir leider nicht anbieten.\n\nFragen? Schreib uns eine Mail: ferienlager@quaelgeist.sm\nSchau auch gerne auch auf unsere Infoseite\n⏵ ENGLISH ⏴\nKick-off playparty for the nappy and ageplay weekend for adult babies\, diaper boys and passionate bedwetters as well as their diaper changers and educators. Our rooms offer everything the little heart desires: Large playpen\, coloring corner\, classroom\, teen room with games console and ball pool.\nRegistration for this event is mandatory! Registration starts on 1 April 2024 at 2 pm. \n\nMen only*\nDresscode: Wearing diapers/nappies is mandatory.\nPeeping Tom´s will not be allowed admission.\nUnfortunately\, we can not offer any overnight accomodations.\n\nAny questions? Send us an email: ferienlager@quaelgeist.sm\nYou may also want to take a look at our info page. \nAnmeldung erforderlich! / Registration mandatory!Zur Anmeldung / Registration form
URL:https://quaelgeist.sm/event/nappies-for-a-change/
LOCATION:Quälgeist Berlin e.V.\, Lankwitzer Straße 42/43\, Berlin\, 12107\, Deutschland
CATEGORIES:Gay
ATTACH;FMTTYPE=image/jpeg:https://quaelgeist.sm/wp-content/uploads/2024/02/q-logo-abdl-6IvRQh.tmp_.jpg
END:VEVENT
BEGIN:VEVENT
DTSTART;TZID=Europe/Berlin:20240317T150000
DTEND;TZID=Europe/Berlin:20240317T230000
DTSTAMP:20260421T144707
CREATED:20240216T125624Z
LAST-MODIFIED:20240216T125624Z
UID:10000055-1710687600-1710716400@quaelgeist.sm
SUMMARY:Playtime - Der Windel- & AgePlay-Stammtisch - Playtime - The ABDL- & AgePlay Munch
DESCRIPTION:▼ ENGLISH BELOW ▼\nWir laden zum Spielen ein – mit genügend Zeit\, um sich im Bällebad auszutoben\, Geschichten vorzulesen\, an der Konsole zu zocken und sich allem hinzugeben\, was Littles Spaß macht. Offen für alle unabhängig von Geschlecht\, Gender und sexueller Orientierung. \n\nKein Dresscode – Fetisch willkommen\n\n⏵ ENGLISH ⏴\nWe invite you to play – with enough time to let off steam in the ball pool\, read stories\, play console games and indulge yourself in whatever little ones enjoy. Open to all\, regardless of sex\, gender and sexual orientation.  \n\nNo dresscode – fetish welcome!\n\n \nVoranmeldung möglich / Pre-registration possibleZur Anmeldung / Registration form
URL:https://quaelgeist.sm/event/playtime-der-windel-ageplay-stammtisch-playtime-the-abdl-ageplay-munch/
LOCATION:Quälgeist Berlin e.V.\, Lankwitzer Straße 42/43\, Berlin\, 12107\, Deutschland
CATEGORIES:Open to all
ATTACH;FMTTYPE=image/jpeg:https://quaelgeist.sm/wp-content/uploads/2024/02/q-logo-abdl-6IvRQh.tmp_.jpg
END:VEVENT
END:VCALENDAR