BEGIN:VCALENDAR
VERSION:2.0
PRODID:-//Quälgeist Berlin e.V. - ECPv6.15.18//NONSGML v1.0//EN
CALSCALE:GREGORIAN
METHOD:PUBLISH
X-WR-CALNAME:Quälgeist Berlin e.V.
X-ORIGINAL-URL:https://quaelgeist.sm
X-WR-CALDESC:Veranstaltungen für Quälgeist Berlin e.V.
REFRESH-INTERVAL;VALUE=DURATION:PT1H
X-Robots-Tag:noindex
X-PUBLISHED-TTL:PT1H
BEGIN:VTIMEZONE
TZID:Europe/Berlin
BEGIN:DAYLIGHT
TZOFFSETFROM:+0100
TZOFFSETTO:+0200
TZNAME:CEST
DTSTART:20250330T010000
END:DAYLIGHT
BEGIN:STANDARD
TZOFFSETFROM:+0200
TZOFFSETTO:+0100
TZNAME:CET
DTSTART:20251026T010000
END:STANDARD
BEGIN:DAYLIGHT
TZOFFSETFROM:+0100
TZOFFSETTO:+0200
TZNAME:CEST
DTSTART:20260329T010000
END:DAYLIGHT
BEGIN:STANDARD
TZOFFSETFROM:+0200
TZOFFSETTO:+0100
TZNAME:CET
DTSTART:20261025T010000
END:STANDARD
BEGIN:DAYLIGHT
TZOFFSETFROM:+0100
TZOFFSETTO:+0200
TZNAME:CEST
DTSTART:20270328T010000
END:DAYLIGHT
BEGIN:STANDARD
TZOFFSETFROM:+0200
TZOFFSETTO:+0100
TZNAME:CET
DTSTART:20271031T010000
END:STANDARD
END:VTIMEZONE
BEGIN:VEVENT
DTSTART;TZID=Europe/Berlin:20260501T200000
DTEND;TZID=Europe/Berlin:20260502T030000
DTSTAMP:20260421T143421
CREATED:20260420T121839Z
LAST-MODIFIED:20260420T121839Z
UID:10000852-1777665600-1777690800@quaelgeist.sm
SUMMARY:Arbeiter-&Bauernstaat
DESCRIPTION:Werktätige aller Geschlechter vereinigt Euch!\nBDSM für Männer\, Frauen & Trans_* am Abend des internationalen Kampftages der Arbeiter*innen – Von Anzug bis Blaumann …  \nDresscode: Anzug\, Arbeitsklamotten\, etc.  \nWorking people of all genders unite!\nBDSM for men\, women & trans_* on the evening of the international workers´ day of struggle – From suit to overalls …  \nDresscode: Suit & tie\, work wear\, etc. \nVoranmeldung möglich / Pre-registration possibleZur Anmeldung / Registration form
URL:https://quaelgeist.sm/event/arbeiter-bauernstaat/
LOCATION:Quälgeist Berlin e.V.\, Lankwitzer Straße 42/43\, Berlin\, 12107\, Deutschland
CATEGORIES:Open to all
ATTACH;FMTTYPE=image/jpeg:https://quaelgeist.sm/wp-content/uploads/2024/02/Q-nMpsWn.tmp_.jpg
END:VEVENT
BEGIN:VEVENT
DTSTART;TZID=Europe/Berlin:20260502T220000
DTEND;TZID=Europe/Berlin:20260503T040000
DTSTAMP:20260421T143421
CREATED:20260414T201014Z
LAST-MODIFIED:20260414T201014Z
UID:10000878-1777759200-1777780800@quaelgeist.sm
SUMMARY:Q Youngsters Night
DESCRIPTION:▼ ENGLISH BELOW ▼\nBDSM-Party für junge Männer zwischen 18 und 35 Jahren mit oder ohne Fetischklamotten. Tobe und probiere dich mit Gleichaltrigen in Sachen BDSM und Fetisch so richtig aus!\nInfochannel bei Telegram: https://t.me/QGYoungsters \n\nNur für Männer* zwischen 18 und 35\nKein Dresscode – Fetisch willkommen\n\n⏵ ENGLISH ⏴\nBDSM party for young men aged 18-35 with or without fetish gear. Have fun with guys your age and take a shot at all new BDSM & fetish experiences!\nInfochannel on Telegram: https://t.me/QGYoungsters \n\nOnly for men* between 18 and 35\nNo dresscode – fetish welcome\n\n \nVoranmeldung möglich / Pre-registration possibleZur Anmeldung / Registration form
URL:https://quaelgeist.sm/event/q-youngsters-night-8/
LOCATION:Quälgeist Berlin e.V.\, Lankwitzer Straße 42/43\, Berlin\, 12107\, Deutschland
CATEGORIES:Gay
END:VEVENT
BEGIN:VEVENT
DTSTART;TZID=Europe/Berlin:20260503T160000
DTEND;TZID=Europe/Berlin:20260503T220000
DTSTAMP:20260421T143421
CREATED:20260414T201014Z
LAST-MODIFIED:20260414T201014Z
UID:10000856-1777824000-1777845600@quaelgeist.sm
SUMMARY:Dungeons Deluxe
DESCRIPTION:Einlass bis 17:00 Uhr / Admission until 17:00   \n▼ ENGLISH BELOW ▼\nDie queere Play-Party für alle anderen.\nWeitere Infos zur Party und zum vorherigen Dungeons Workshop gibt es unter dungeons@quaelgeist.sm und in der Dungeons Deluxe Gruppe auf Fetlife\nEinlass von 16:00 Uhr bis 17:00 Uhr\, Ende 22:00 Uhr \n\nKein Dresscode – Fetisch Willkommen\n\n⏵ ENGLISH ⏴\nThe queer play party for all others.\nFor further information about the party and the preceding Dungeons Workshop send us an email at dungeons@quaelgeist.sm and check the Dungeons Deluxe group on  Fetlife\nDoors open from 16:00 h to 17:00 h\, end 22:00 h \n\nNo Dresscode – Fetish Welcome\n\n \nVoranmeldung möglich / Pre-registration possibleZur Anmeldung / Registration form
URL:https://quaelgeist.sm/event/dungeons-deluxe-14/
LOCATION:Quälgeist Berlin e.V.\, Lankwitzer Straße 42/43\, Berlin\, 12107\, Deutschland
CATEGORIES:Queer
END:VEVENT
BEGIN:VEVENT
DTSTART;TZID=Europe/Berlin:20260504T180000
DTEND;TZID=Europe/Berlin:20260504T230000
DTSTAMP:20260421T143421
CREATED:20260414T201015Z
LAST-MODIFIED:20260414T201015Z
UID:10000857-1777917600-1777935600@quaelgeist.sm
SUMMARY:Blue Monday Chillout
DESCRIPTION:▼ ENGLISH BELOW ▼\nAfterwork-BDSM-Party für Frauen* und Männer*\, um kinky in die Woche zu starten.  \n\nKein Dresscode – Fetisch willkommen\n\n⏵ ENGLISH ⏴\nAfterwork BDSM party for women* and men* to start of a kinky week. \n\nNo dresscode – fetish welcome\n\n \nVoranmeldung möglich / Pre-registration possibleZur Anmeldung / Registration form
URL:https://quaelgeist.sm/event/blue-monday-chillout-54/
LOCATION:Quälgeist Berlin e.V.\, Lankwitzer Straße 42/43\, Berlin\, 12107\, Deutschland
CATEGORIES:Mixed
END:VEVENT
BEGIN:VEVENT
DTSTART;TZID=Europe/Berlin:20260505T190000
DTEND;TZID=Europe/Berlin:20260505T230000
DTSTAMP:20260421T143421
CREATED:20260414T201015Z
LAST-MODIFIED:20260414T201015Z
UID:10000858-1778007600-1778022000@quaelgeist.sm
SUMMARY:SM am Dienstag - SM on Tuesday
DESCRIPTION:▼ ENGLISH BELOW ▼\nOffener BDSM-Abend für alle Männer*\, die auch unter der Woche die Sau rauslassen\, sich einfach gemütlich unterhalten oder unseren Verein und seine Räumlichkeiten ganz entspannt und ohne Dresscode kennenlernen möchten. Kommt einfach vorbei und genießt den Feierabend! \n\nNur für Männer*!\nKein Dresscode – Fetisch willkommen\n\n⏵ ENGLISH ⏴\nOpen BDSM evening for men* who want to let off steam on a weeknight. Just enjoy a cosy chat or get to know our club and its premises in a relaxed manner and without any dress code. Just come along and enjoy the after-work hours! \n\nMen* only!\nNo dresscode – fetish welcome\n\n \nVoranmeldung möglich / Pre-registration possibleZur Anmeldung / Registration form
URL:https://quaelgeist.sm/event/sm-am-dienstag-sm-on-tuesday-57/
LOCATION:Quälgeist Berlin e.V.\, Lankwitzer Straße 42/43\, Berlin\, 12107\, Deutschland
CATEGORIES:Gay
END:VEVENT
BEGIN:VEVENT
DTSTART;TZID=Europe/Berlin:20260507T180000
DTEND;TZID=Europe/Berlin:20260508T000000
DTSTAMP:20260421T143421
CREATED:20260414T201015Z
LAST-MODIFIED:20260414T201015Z
UID:10000860-1778176800-1778198400@quaelgeist.sm
SUMMARY:Red Butts
DESCRIPTION:▼ ENGLISH BELOW ▼ \nSpanking bis die Hintern glühen. Die gepflegte Spanking-Afterwork-Party für Männer*. \n\nKein Dresscode – Fetisch willkommen\n\n⏵ ENGLISH ⏴ \nSpanking ´til the butts are glowing. The sophisticated spanking afterwork party for men*. \n\nNo dresscode – fetish welcome\n\n \nVoranmeldung möglich / Pre-registration possibleZur Anmeldung / Registration form
URL:https://quaelgeist.sm/event/red-butts-27/
LOCATION:Quälgeist Berlin e.V.\, Lankwitzer Straße 42/43\, Berlin\, 12107\, Deutschland
CATEGORIES:Gay
END:VEVENT
BEGIN:VEVENT
DTSTART;TZID=Europe/Berlin:20260508T210000
DTEND;TZID=Europe/Berlin:20260509T030000
DTSTAMP:20260421T143421
CREATED:20260418T120139Z
LAST-MODIFIED:20260418T120139Z
UID:10000861-1778274000-1778295600@quaelgeist.sm
SUMMARY:PepperMINT
DESCRIPTION:▼ ENGLISH BELOW ▼ \nWhip and Drip\nFür diese Ausgabe von Peppermint laden wir euch ein\, euren gefräßigsten Gelüsten nachzugeben.\n Wir sorgen für Kuchen und Sahne\, und ihr bringt die Körper und Löcher mit\, die gefüllt werden sollen. Es wird eine versaute Kuchenorgie – also schlemmt\, lasst euch vollschmieren und habt Spaß!\nDer Spielbereich wird in Bereiche für versaute oder sinnliche Kuchen- und Fütterungsspiele unterteilt. Andere Bereiche stehen natürlich weiterhin für alle anderen Arten von Spielen und Aktivitäten offen.\nFür diesen sahnigen Spaß werden wir diese Mal von zwei netten Menschen unterstützt:\n·	Barney\, auch bekannt als “The Muckle Stoater” (IG @the_muckle_stoater)\, ein bekannter Clown Fetischist und enthusiastischer Tortenschmeißer\n·	Und zusätzlich noch einen Gast\, der in seinen Drag Shows schon so einige Kuchen zermascht hat.\nZum Rantasten\, bieten wir eine kurze Einführung in all die Leckereien\, mit denen ihr heute Abend herumspielen könnt. Und für alle\, die noch ein bisschen mehr Ermutigung brauchen\, bringen wir kleine Spiele und Ideen mit\, um den zuckrigen Spaß in Gang zu bringen. \nZeitplan:\n·	21:00 Beginn der Party\n·	21:45 Vorstellungsrunde\n·	22:15 Kuchenspiele Teil 1\n·	22:45 Pause\n·	23:30 Kuchenspiele Teil 2\n·	3:00 Party Ende \nEs gibt keine Kleiderordnung\, aber bitte tragt etwas\, das leicht zu reinigen ist\, wenn ihr euch gegenseitig bekleckern wollt!\nWir heißen alle queeren Männlichkeiten auf der Party willkommen: Dazu gehören Cis-Männer\, Trans-Männer\, nicht-binäre Mäskulinitäten\, Butches\, Fags\, Daddies\, lustige Onkel\, Jungs usw.\, um nur einige zu nennen.\nWir sehen uns dort\, viel Spaß beim Schlemmen! \n\n⏵ ENGLISH ⏴ \nWhip and Drip\nFor this edition of Peppermint we invite you to give into your most gluttonous desires. This evening we prepare the cakes and cream and you bring the bodies and holes to be filled. It’s a messy cake orgy so feast\, get drenched and have fun! \nThe play area will be divided into areas for messy or sensual cake and feeding play. Other areas are of couse still open for all other kinds of play and activities.\nTo assist us with all this creamy fun we invited two special hosts to assist us:\n·	Barney also known as “The Muckle Stoater” (IG @the_muckle_stoater)\, a reknowned clown fetishist and enthusiastic pie thrower\n·	And a professional cake smashing guest!\nTo get you all settled in we provide a short introduction into all the fun treats you can mess around with tonight. And for anyone who still needs a but more encouragement we will bring little games and ideas to get the messy fun started. \nSchedule:\n·	21:00 Open Doors\n·	21:45 Introduction Round\n·	22:15 Cake Game Round 1\n·	22:45 Break\n·	23:30 Cake Game Round 2\n·	3:00 Party End \nThere is no dresscode but please if you want to engange into messy play maybe wear someting that’s easy to clean! \nWe welcome all queer masculinites to party: This includes cis men\, trans men\, non-binary mascs\, butches\, fags\, daddies\, fun uncles\, boys etc. just to name a few.\nSee you there\, happy feasting! \nVoranmeldung möglich / Pre-registration possibleZur Anmeldung / Registration form
URL:https://quaelgeist.sm/event/peppermint-10/
LOCATION:Quälgeist Berlin e.V.\, Lankwitzer Straße 42/43\, Berlin\, 12107\, Deutschland
CATEGORIES:Gay
ATTACH;FMTTYPE=image/jpeg:https://quaelgeist.sm/wp-content/uploads/2024/04/Q_rainbow_all_inclusive_icon-l1rQUq.tmp_.jpg
END:VEVENT
BEGIN:VEVENT
DTSTART;TZID=Europe/Berlin:20260509T200000
DTEND;TZID=Europe/Berlin:20260510T020000
DTSTAMP:20260421T143421
CREATED:20260414T201016Z
LAST-MODIFIED:20260414T201016Z
UID:10000863-1778356800-1778378400@quaelgeist.sm
SUMMARY:Sodom & Gomorrha
DESCRIPTION:▼ ENGLISH BELOW ▼\nAusschweifende BDSM- und Fetisch-Party biblischen Ausmaßes für Frauen* und Männer*.\nLass deine Göttin Pech und Schwefel auf dich herniederregnen oder – falls es an Gotteskraft mangelt – ein wenig Kerzenwachs und ein schlichtes Flogging. Oder was auch immer euch beliebt. Setzt Himmel und Hölle in Bewegung für Bondage\, Disziplin\, Sklaverei und D/s in allen Konstellationen ebenso\, wie für Sadomasochismus in Reinform. Für dominante Männer und devote Sklavinnen sowie für FemDoms und ihre unterwürfigen Männer. \n\nANGEMESSENE GARDEROBE: Abendkleid\, Anzug\, Fetisch oder gepflegtes Schwarz\n\n⏵ ENGLISH ⏴\nDebauched BDSM and fetish party of biblical proportions for women* and men*.\nLet your goddess rain fire and brimstone down on you\, or – if there’s a lack of godly power – a little candle wax and some plain simple flogging. Or whatever takes your fancy. Set heaven and hell in motion for bondage\, discipline\, slavery and D/s in all constellations as well as for sadomasochism in its purest form. For dominant men and submissive slaves as well as for FemDoms and their submissive men. \n\nAPPROPRIATE GARDEROBE: evening dress\, suit\, fetish or neat black.\n\n \nVoranmeldung möglich / Pre-registration possibleZur Anmeldung / Registration form
URL:https://quaelgeist.sm/event/sodom-gomorrha-25/
LOCATION:Quälgeist Berlin e.V.\, Lankwitzer Straße 42/43\, Berlin\, 12107\, Deutschland
CATEGORIES:Mixed
END:VEVENT
BEGIN:VEVENT
DTSTART;TZID=Europe/Berlin:20260510T150000
DTEND;TZID=Europe/Berlin:20260510T220000
DTSTAMP:20260421T143421
CREATED:20260414T201016Z
LAST-MODIFIED:20260414T201016Z
UID:10000864-1778425200-1778450400@quaelgeist.sm
SUMMARY:Honey & Spice
DESCRIPTION:Einlass bis 16:00 Uhr / Admission until 16:00   \n▼ ENGLISH BELOW ▼\nDie Honey & Spice ist eine BDSM-Playparty für Frauen\, Lesben\, inter\, nicht-binäre\, trans und agender Menschen (FLINTA) nach Selbstdefinition\, unabhängig vom Aussehen.\nFür weitere Infos besucht unsere Website und unsere Gruppe bei Fetlife. \nErste Einlasszeit: 15:00-16:00 Uhr\nZweite Einlasszeit: 19:00-19:30 Uhr \n\nKein Dresscode – Fetisch willkommen\nCovid-Maßnahmen: Wir bitten alle\, getestet zu unserer Party zu kommen und bei Symptomen zu Hause zu bleiben. Wir haben auch Coronatests auf der Veranstaltung verfügbar\, aber zu Hause testen wäre super.\n\n⏵ ENGLISH ⏴\nHoney & Spice is a BDSM play party for women\, lesbians\, inter\, non-binary\, trans\, and agender people (FLINTA) according to self-definition\, independent of appearance. For more information check our website and our group on Fetlife. \nFirst entry time: 3:00-4:00 p.m.\nSecond entry time: 7:00-7:30 p.m. \n\nNo dresscode – fetish welcome\nCovid guidelines: We kindly advise our visitors to take a Covid self-test and to stay home in case of symptoms. It is also possible to do a self-test at the entrance\, but it would be nice if it could be done beforehand at home.\n\n \nVoranmeldung möglich / Pre-registration possibleZur Anmeldung / Registration form
URL:https://quaelgeist.sm/event/honey-spice-27/
LOCATION:Quälgeist Berlin e.V.\, Lankwitzer Straße 42/43\, Berlin\, 12107\, Deutschland
CATEGORIES:FLINT
END:VEVENT
BEGIN:VEVENT
DTSTART;TZID=Europe/Berlin:20260513T190000
DTEND;TZID=Europe/Berlin:20260514T030000
DTSTAMP:20260421T143421
CREATED:20260414T201016Z
LAST-MODIFIED:20260414T201016Z
UID:10000865-1778698800-1778727600@quaelgeist.sm
SUMMARY:Schmerzlich Willkommen - Painful Welcome
DESCRIPTION:▼ ENGLISH BELOW ▼\nWir heißen euch zu ganz besonderen Anlässen wie z.B. EASTER BERLIN\, FOLSOM EUROPE Himmelfahrt oder dem Berliner CSD willkommen.\nUnd da es sich um solch besondere Anlässe handelt\, holt ihr am besten alles vom Halsband bis hin zur Fetischgear aus dem Kleiderschrank und startet in ein Wochenende voller BDSM und Fetisch. Nur für Männer*! \n\nDresscode: Leder\, Gummi\, Uniform\, Skin\, Punk\, Skater\, Proll\, Arbeitsklamotten\, Sportswear & Lycra\n\nEinlass bis 21:00 Uhr nur mit Anmeldung! Bitte melde Dich für diese Veranstaltung über den Kalender oder per Quälgeist-App an. Dein Platz ist dann bis zwei Stunden nach Veranstaltungsbeginn für Dich reserviert. Bitte storniere Deine Anmeldung\, falls sich Deine Pläne ändern sollten. Ab 21:00 Uhr offener Einlass. Wir empfehlen\, vorab unter Telefon +49 30 69519650 anzurufen und nachzufragen\, ob die laufende Veranstaltung voll ist. Eine bestätigte Anmeldung ist keine Einlassgarantie\, bitte achte darauf\, dass für einzelne Veranstaltungen eine bestimmte Zielgruppe oder ein Dresscode gelten können.\n\n⏵ ENGLISH ⏴\nWe welcome you to very special events like EASTER BERLIN\, FOLSOM EUROPE or Berlin PRIDE.\nAnd since these are such special occasions\, you better dig in your wardrobe for everything from collars to fetish gear and start a weekend full of BDSM and fetish. For men only*! \n\nDresscode: Leather\, Rubber\, Uniform\, Skin\, Punk\, Skater\, Chav\, Workgear\, Sportswear & Lycra\n\nAdmission until 9.00 p.m. only with registration! Please register for this event via the calendar or the Quälgeist app. Your place will then be reserved for you until two hours after the start of the event. Please cancel your registration if your plans change. Open admission from 9.00 p.m.. We recommend calling +49 30 69519650 in advance to check if the current event is full. Confirmed registration is not a guarantee of admission\, please note that individual events may have a specific target group or dress code. \nAnmeldung erforderlich! / Registration mandatory!Anmeldung ab 15.04.2026 19:00 Uhr / Registration starts on 2026-04-15 19:00 (Berlin local time)Zur Anmeldung / Registration form
URL:https://quaelgeist.sm/event/schmerzlich-willkommen-painful-welcome-8/
LOCATION:Quälgeist Berlin e.V.\, Lankwitzer Straße 42/43\, Berlin\, 12107\, Deutschland
CATEGORIES:Gay
END:VEVENT
BEGIN:VEVENT
DTSTART;TZID=Europe/Berlin:20260514T200000
DTEND;TZID=Europe/Berlin:20260514T200000
DTSTAMP:20260421T143421
CREATED:20260414T201017Z
LAST-MODIFIED:20260414T201017Z
UID:10000868-1778788800-1778788800@quaelgeist.sm
SUMMARY:TIN + Friends
DESCRIPTION:▼ ENGLISH BELOW ▼\nDiese Playparty ist für trans / inter / nichtbinäre Menschen\, cis Freund*innen / Partner*innen sind willkommen.\nCis-hetero Paare sind nicht eingeladen.\nLernt euch an der Bar kennen\, tauscht Ideen aus und nutzt unseren vielseitigen Spielbereich\, um Spaß zu haben.\nWer mag\, kann um 19:00 Uhr an unserer Vorstellungsrunde teilnehmen. \n\nKein Dresscode – Fetisch willkommen\n\n⏵ ENGLISH ⏴\nThe playparty for trans / inter / non-binary people\, cis friends / partners are welcome.\nCis-hetero couples aren´t invited.\nMeet new people at the bar\, exchange ideas and have fun in our well equipped play space.\nYou are welcome to join our introduction session at 19:00. \n\nNo dresscode – fetish welcome\n\n \nVoranmeldung möglich / Pre-registration possibleZur Anmeldung / Registration form
URL:https://quaelgeist.sm/event/tin-friends-26/
LOCATION:Quälgeist Berlin e.V.\, Lankwitzer Straße 42/43\, Berlin\, 12107\, Deutschland
CATEGORIES:Queer
END:VEVENT
BEGIN:VEVENT
DTSTART;TZID=Europe/Berlin:20260515T200000
DTEND;TZID=Europe/Berlin:20260516T030000
DTSTAMP:20260421T143421
CREATED:20260414T201017Z
LAST-MODIFIED:20260414T201017Z
UID:10000867-1778875200-1778900400@quaelgeist.sm
SUMMARY:Combat @ Wrestlefest
DESCRIPTION:▼ ENGLISH BELOW ▼ \nTrampling\, Gutpunching\, CBT und derber Körperkontakt für Männer*!.\nTrittfeste und schlagende Argumente: Boxen\, Drauflatschen\, Ringen und Spaß haben.\nUnser Trampling-Bereich mit Sandsack\, Matten und Möglichkeiten zum Festhalten bietet alles für derb-kraftvolle Auseinandersetzungen\, bei denen menschliche Boxsäcke und Fußmatten in die Mangel genommen werden.  \nDieses Mal in Zusammenarbeit und mit Unterstützung von wrestlefest.eu. Siehe: wrestlefest.eu/combat \n\nKein Dresscode\, Fetisch willkommen\n\n⏵ ENGLISH ⏴ \nTrampling\, gutpunching\, CBT and rough body contact for men*!\nSolid arguments: nuke\, trample\, bash\, box\, wrestle and have fun.\nOur trampling area with sand sack\, mats and fixtures offers all you need for hefty quarrels where human punching bags and foot mats are being put through the mill. \nOn this weekend in cooperation with and with support from wrestlefest.eu. See: wrestlefest.eu/combat \n\nNo dresscode\, fetish welcome\n\n \nVoranmeldung möglich / Pre-registration possibleZur Anmeldung / Registration form
URL:https://quaelgeist.sm/event/combat-wrestlefest/
LOCATION:Quälgeist Berlin e.V.\, Lankwitzer Straße 42/43\, Berlin\, 12107\, Deutschland
CATEGORIES:Gay
END:VEVENT
BEGIN:VEVENT
DTSTART;TZID=Europe/Berlin:20260516T210000
DTEND;TZID=Europe/Berlin:20260517T030000
DTSTAMP:20260421T143421
CREATED:20260414T201017Z
LAST-MODIFIED:20260414T201017Z
UID:10000869-1778965200-1778986800@quaelgeist.sm
SUMMARY:On Your Knees
DESCRIPTION:▼ ENGLISH BELOW ▼\nBei unserer Sklavennacht für Männer* werden all die passiven und devoten Slaves\, Doggys\, Bitches usw. an die Kette gelegt\, erniedrigt\, ausgepeitscht\, gefloggert\, bestraft\, öffentlich vorgeführt\, erzogen und zum Dienen verdonnert. Und damit es gleich zur Sache gehen kann\, füllen alle Spielwütigen gleich zu Beginn einen Fragebogen mit ihren Vorlieben aus. \n\nDresscode: Leder\, Gummi\, Uniform\, Skin\, Punk\, Skater\, Proll\, Arbeitsklamotten\, Sportswear & Lycra\n\n⏵ ENGLISH ⏴\nAt our slave night for men*\, all the passive and submissive slaves\, doggies\, bitches etc. will be chained up\, humiliated\, whipped\, flogged\, punished\, publicly paraded\, educated and forced to serve. To speed things up all those who want to play fill out a questionnaire with their preferences right at the beginning. \n\nDresscode: Leather\, Rubber\, Uniform\, Skin\, Punk\, Skater\, Chav\, Workgear\, Sportswear & Lycra\n\n \nVoranmeldung möglich / Pre-registration possibleZur Anmeldung / Registration form
URL:https://quaelgeist.sm/event/on-your-knees-7/
LOCATION:Quälgeist Berlin e.V.\, Lankwitzer Straße 42/43\, Berlin\, 12107\, Deutschland
CATEGORIES:Gay
END:VEVENT
BEGIN:VEVENT
DTSTART;TZID=Europe/Berlin:20260517T150000
DTEND;TZID=Europe/Berlin:20260517T210000
DTSTAMP:20260421T143421
CREATED:20260414T201018Z
LAST-MODIFIED:20260414T201018Z
UID:10000871-1779030000-1779051600@quaelgeist.sm
SUMMARY:Kaffee\, Sex und Kuchen - Coffee\, Sex & Cake
DESCRIPTION:▼ ENGLISH BELOW ▼\nEntspannter BDSM-Chillout bei Kaffee und Kuchen für Frauen* und Männer*. \n\nDresscode: Angemessene Garderobe\n\n⏵ ENGLISH ⏴\nRelaxed BDSM chillout with coffee and cake for women* and men*. \n\nDresscode: appropriate attire\n\n \nVoranmeldung möglich / Pre-registration possibleZur Anmeldung / Registration form
URL:https://quaelgeist.sm/event/kaffee-sex-und-kuchen-coffee-sex-cake-17/
LOCATION:Quälgeist Berlin e.V.\, Lankwitzer Straße 42/43\, Berlin\, 12107\, Deutschland
CATEGORIES:Mixed
END:VEVENT
BEGIN:VEVENT
DTSTART;TZID=Europe/Berlin:20260522T210000
DTEND;TZID=Europe/Berlin:20260523T030000
DTSTAMP:20260421T143421
CREATED:20260414T201018Z
LAST-MODIFIED:20260414T201018Z
UID:10000874-1779483600-1779505200@quaelgeist.sm
SUMMARY:Herrenabend - Masters Night
DESCRIPTION:▼ ENGLISH BELOW ▼\nDer Quälgeist lädt zu einem gepflegten Herrenabend für Männer*\, bei dem die Meister Whisky\, Zigarren und die Dienste ihrer Sklaven genießen\, die sich ihren Herren und deren Regeln zu unterwerfen haben und so diesen klassischen BDSM-Abend zu einem ganz besonderen Erlebnis machen. \n\nDRESSCODE FÜR MEISTER: Leder\, Uniform\, Skin\, Anzug (Business) \nDRESSCODE FÜR SKLAVEN: Leder\, Uniform\, Skin\, nackt \n\n⏵ ENGLISH ⏴\nQuälgeist invites you to a cultivated gentlemen´s evening for men*\, where the masters enjoy whisky\, cigars and the services of their slaves\, who have to submit to their masters and their rules\, making this classic BDSM evening a very special experience. \n\nDRESSCODE FOR MASTERS: Leather\, uniform\, skin\, suit (business). \nDRESSCODE FOR SLAVES: Leather\, uniform\, skin\, naked \n\n \nVoranmeldung möglich / Pre-registration possibleZur Anmeldung / Registration form
URL:https://quaelgeist.sm/event/herrenabend-masters-night-7/
LOCATION:Quälgeist Berlin e.V.\, Lankwitzer Straße 42/43\, Berlin\, 12107\, Deutschland
CATEGORIES:Gay
END:VEVENT
BEGIN:VEVENT
DTSTART;TZID=Europe/Berlin:20260523T210000
DTEND;TZID=Europe/Berlin:20260524T030000
DTSTAMP:20260421T143421
CREATED:20260414T201019Z
LAST-MODIFIED:20260414T201019Z
UID:10000922-1779570000-1779591600@quaelgeist.sm
SUMMARY:All You Can Tickle (Bondage & Kitzeln)
DESCRIPTION:▼ ENGLISH BELOW ▼\nKille\, kille\, kille! – Ist es nicht fantastisch\, wenn der Spielpartner gefesselt ist\, sich nicht wehren kann und seine empfindlichsten Stellen abgekitzelt werden? Aber sicher! Und genau deshalb laden wir zum Kitzeln bis zum Abwinken ein. Nur für Männer*! \n\nKein Dresscode – Fetisch willkommen\n\n⏵ ENGLISH ⏴\nTickle\, tickle\, tickle! – Isn’t it wonderful to have your partner pretty tied up and defenceless while you tickle his most sensitive body parts? Of course it is! And that´s exactly why we invite you to tickle till you drop. For men only*! \n\nNo dresscode – fetish welcome\n\n \nVoranmeldung möglich / Pre-registration possibleZur Anmeldung / Registration form
URL:https://quaelgeist.sm/event/all-you-can-tickle-bondage-kitzeln-7/
LOCATION:Quälgeist Berlin e.V.\, Lankwitzer Straße 42/43\, Berlin\, 12107\, Deutschland
CATEGORIES:Gay
END:VEVENT
BEGIN:VEVENT
DTSTART;TZID=Europe/Berlin:20260524T150000
DTEND;TZID=Europe/Berlin:20260524T230000
DTSTAMP:20260421T143421
CREATED:20260414T201019Z
LAST-MODIFIED:20260414T201019Z
UID:10000876-1779634800-1779663600@quaelgeist.sm
SUMMARY:Playtime - Die Windel- & AgePlay-Playparty - Playtime - The ABDL- & AgePlay Play Party
DESCRIPTION:▼ ENGLISH BELOW ▼\nWir laden zum Spielen ein – mit genügend Zeit\, um sich im Bällebad auszutoben\, Geschichten vorzulesen\, an der Konsole zu zocken und sich allem hinzugeben\, was Littles Spaß macht. Offen für alle unabhängig von Geschlecht\, Gender und sexueller Orientierung. \n\nKein Dresscode – Fetisch willkommen\n\n⏵ ENGLISH ⏴\nWe invite you to play – with enough time to let off steam in the ball pool\, read stories\, play console games and indulge yourself in whatever little ones enjoy. Open to all\, regardless of sex\, gender and sexual orientation.  \n\nNo dresscode – fetish welcome!\n\n \nVoranmeldung möglich / Pre-registration possibleZur Anmeldung / Registration form
URL:https://quaelgeist.sm/event/playtime-die-windel-ageplay-playparty-playtime-the-abdl-ageplay-play-party-10/
LOCATION:Quälgeist Berlin e.V.\, Lankwitzer Straße 42/43\, Berlin\, 12107\, Deutschland
CATEGORIES:Open to all
END:VEVENT
BEGIN:VEVENT
DTSTART;TZID=Europe/Berlin:20260527T183000
DTEND;TZID=Europe/Berlin:20260527T220000
DTSTAMP:20260421T143421
CREATED:20260414T201019Z
LAST-MODIFIED:20260414T201019Z
UID:10000877-1779906600-1779919200@quaelgeist.sm
SUMMARY:Playfight Playground
DESCRIPTION:Einlass bis 19:00 Uhr / Admission until 19:00   \n▼ ENGLISH BELOW ▼\nHier geht es nicht ums Gewinnen\, sondern um spielerisches Raufen und das Erleben von Freude. Lebe deinen Spieltrieb aus und spüre verschiedene Emotionen. Moderierte Veranstaltung: Nach einem kurzen Kennenlernen besprechen wir Regeln und Tabus\, dann steigen wir ins Raufen\, Balgen\, Kuscheln\, lachen und Kräfte Messen ein. Keine körperlichen Voraussetzungen und spezielle Kenntnisse erforderlich. \n\nEinlass 18:30 bis 19:00 Uhr\, Ende 22:00 Uhr\nDresscode: lange Sportkleidung\, kein Schmuck\n\n⏵ ENGLISH ⏴\nThis is not about winning\, but about playful tussling and experiencing joy. Live out your play instinct and feel different emotions. Moderated event: After a brief introduction\, we discuss rules and taboos\, then we get into roughhousing\, wrestling\, cuddling\, laughing and measuring strength. No physical requirements or special knowledge necessary. \n\nAdmission 6:30 to 7:00 pm\, end 10:00 pm\nDresscode: long sportswear\, no jewelry\n\n \nAnmeldung erforderlich! / Registration mandatory!Anmeldung ab 15.04.2026 23:00 Uhr / Registration starts on 2026-04-15 23:00 (Berlin local time)Zur Anmeldung / Registration form
URL:https://quaelgeist.sm/event/playfight-playground-29/
LOCATION:Quälgeist Berlin e.V.\, Lankwitzer Straße 42/43\, Berlin\, 12107\, Deutschland
CATEGORIES:Open to all
END:VEVENT
END:VCALENDAR