BEGIN:VCALENDAR
VERSION:2.0
PRODID:-//Quälgeist Berlin e.V. - ECPv6.15.18//NONSGML v1.0//EN
CALSCALE:GREGORIAN
METHOD:PUBLISH
X-WR-CALNAME:Quälgeist Berlin e.V.
X-ORIGINAL-URL:https://quaelgeist.sm
X-WR-CALDESC:Veranstaltungen für Quälgeist Berlin e.V.
REFRESH-INTERVAL;VALUE=DURATION:PT1H
X-Robots-Tag:noindex
X-PUBLISHED-TTL:PT1H
BEGIN:VTIMEZONE
TZID:Europe/Berlin
BEGIN:DAYLIGHT
TZOFFSETFROM:+0100
TZOFFSETTO:+0200
TZNAME:CEST
DTSTART:20240331T010000
END:DAYLIGHT
BEGIN:STANDARD
TZOFFSETFROM:+0200
TZOFFSETTO:+0100
TZNAME:CET
DTSTART:20241027T010000
END:STANDARD
BEGIN:DAYLIGHT
TZOFFSETFROM:+0100
TZOFFSETTO:+0200
TZNAME:CEST
DTSTART:20250330T010000
END:DAYLIGHT
BEGIN:STANDARD
TZOFFSETFROM:+0200
TZOFFSETTO:+0100
TZNAME:CET
DTSTART:20251026T010000
END:STANDARD
BEGIN:DAYLIGHT
TZOFFSETFROM:+0100
TZOFFSETTO:+0200
TZNAME:CEST
DTSTART:20260329T010000
END:DAYLIGHT
BEGIN:STANDARD
TZOFFSETFROM:+0200
TZOFFSETTO:+0100
TZNAME:CET
DTSTART:20261025T010000
END:STANDARD
END:VTIMEZONE
BEGIN:VEVENT
DTSTART;TZID=Europe/Berlin:20250707T180000
DTEND;TZID=Europe/Berlin:20250707T230000
DTSTAMP:20260422T114915
CREATED:20250427T161800Z
LAST-MODIFIED:20250427T161800Z
UID:10000537-1751911200-1751929200@quaelgeist.sm
SUMMARY:Blue Monday Chillout
DESCRIPTION:▼ ENGLISH BELOW ▼\nAfterwork-BDSM-Party für Frauen* und Männer*\, um kinky in die Woche zu starten.  \n\nKein Dresscode – Fetisch willkommen\n\n⏵ ENGLISH ⏴\nAfterwork BDSM party for women* and men* to start of a kinky week. \n\nNo dresscode – fetish welcome\n\n \nVoranmeldung möglich / Pre-registration possibleZur Anmeldung / Registration form
URL:https://quaelgeist.sm/event/blue-monday-chillout-36/
LOCATION:Quälgeist Berlin e.V.\, Lankwitzer Straße 42/43\, Berlin\, 12107\, Deutschland
CATEGORIES:Mixed
END:VEVENT
BEGIN:VEVENT
DTSTART;TZID=Europe/Berlin:20250708T190000
DTEND;TZID=Europe/Berlin:20250708T230000
DTSTAMP:20260422T114915
CREATED:20250430T123820Z
LAST-MODIFIED:20250430T123820Z
UID:10000539-1752001200-1752015600@quaelgeist.sm
SUMMARY:SM am Dienstag - SM on Tuesday
DESCRIPTION:▼ ENGLISH BELOW ▼\nOffener BDSM-Abend für alle Männer*\, die auch unter der Woche die Sau rauslassen\, sich einfach gemütlich unterhalten oder unseren Verein und seine Räumlichkeiten ganz entspannt und ohne Dresscode kennenlernen möchten. Kommt einfach vorbei und genießt den Feierabend! \n\nNur für Männer*!\nKein Dresscode – Fetisch willkommen\n\n⏵ ENGLISH ⏴\nOpen BDSM evening for men* who want to let off steam on a weeknight. Just enjoy a cosy chat or get to know our club and its premises in a relaxed manner and without any dress code. Just come along and enjoy the after-work hours! \n\nMen* only!\nNo dresscode – fetish welcome\n\n \nVoranmeldung möglich / Pre-registration possibleZur Anmeldung / Registration form
URL:https://quaelgeist.sm/event/sm-am-dienstag-sm-on-tuesday-37/
LOCATION:Quälgeist Berlin e.V.\, Lankwitzer Straße 42/43\, Berlin\, 12107\, Deutschland
CATEGORIES:Gay
ATTACH;FMTTYPE=image/jpeg:https://quaelgeist.sm/wp-content/uploads/2024/02/sm-am-dienstag-9CSzLX.tmp_.jpg
END:VEVENT
BEGIN:VEVENT
DTSTART;TZID=Europe/Berlin:20250712T200000
DTEND;TZID=Europe/Berlin:20250712T200000
DTSTAMP:20260422T114915
CREATED:20250427T161804Z
LAST-MODIFIED:20250427T161804Z
UID:10000544-1752350400-1752350400@quaelgeist.sm
SUMMARY:Sodom & Gomorrha
DESCRIPTION:▼ ENGLISH BELOW ▼\nAusschweifende BDSM- und Fetisch-Party biblischen Ausmaßes für Frauen* und Männer*.\nLass deine Göttin Pech und Schwefel auf dich herniederregnen oder – falls es an Gotteskraft mangelt – ein wenig Kerzenwachs und ein schlichtes Flogging. Oder was auch immer euch beliebt. Setzt Himmel und Hölle in Bewegung für Bondage\, Disziplin\, Sklaverei und D/s in allen Konstellationen ebenso\, wie für Sadomasochismus in Reinform. Für dominante Männer und devote Sklavinnen sowie für FemDoms und ihre unterwürfigen Männer. \n\nANGEMESSENE GARDEROBE: Abendkleid\, Anzug\, Fetisch oder gepflegtes Schwarz\n\n⏵ ENGLISH ⏴\nDebauched BDSM and fetish party of biblical proportions for women* and men*.\nLet your goddess rain fire and brimstone down on you\, or – if there’s a lack of godly power – a little candle wax and some plain simple flogging. Or whatever takes your fancy. Set heaven and hell in motion for bondage\, discipline\, slavery and D/s in all constellations as well as for sadomasochism in its purest form. For dominant men and submissive slaves as well as for FemDoms and their submissive men. \n\nAPPROPRIATE GARDEROBE: evening dress\, suit\, fetish or neat black.\n\n \nVoranmeldung möglich / Pre-registration possibleZur Anmeldung / Registration form
URL:https://quaelgeist.sm/event/sodom-gomorrha-16/
LOCATION:Quälgeist Berlin e.V.\, Lankwitzer Straße 42/43\, Berlin\, 12107\, Deutschland
CATEGORIES:Mixed
END:VEVENT
BEGIN:VEVENT
DTSTART;TZID=Europe/Berlin:20250714T180000
DTEND;TZID=Europe/Berlin:20250714T230000
DTSTAMP:20260422T114915
CREATED:20250427T161800Z
LAST-MODIFIED:20250427T161800Z
UID:10000538-1752516000-1752534000@quaelgeist.sm
SUMMARY:Blue Monday Chillout
DESCRIPTION:▼ ENGLISH BELOW ▼\nAfterwork-BDSM-Party für Frauen* und Männer*\, um kinky in die Woche zu starten.  \n\nKein Dresscode – Fetisch willkommen\n\n⏵ ENGLISH ⏴\nAfterwork BDSM party for women* and men* to start of a kinky week. \n\nNo dresscode – fetish welcome\n\n \nVoranmeldung möglich / Pre-registration possibleZur Anmeldung / Registration form
URL:https://quaelgeist.sm/event/blue-monday-chillout-37/
LOCATION:Quälgeist Berlin e.V.\, Lankwitzer Straße 42/43\, Berlin\, 12107\, Deutschland
CATEGORIES:Mixed
END:VEVENT
BEGIN:VEVENT
DTSTART;TZID=Europe/Berlin:20250715T190000
DTEND;TZID=Europe/Berlin:20250715T230000
DTSTAMP:20260422T114915
CREATED:20250430T123807Z
LAST-MODIFIED:20250430T123807Z
UID:10000540-1752606000-1752620400@quaelgeist.sm
SUMMARY:SM am Dienstag - SM on Tuesday
DESCRIPTION:▼ ENGLISH BELOW ▼\nOffener BDSM-Abend für alle Männer*\, die auch unter der Woche die Sau rauslassen\, sich einfach gemütlich unterhalten oder unseren Verein und seine Räumlichkeiten ganz entspannt und ohne Dresscode kennenlernen möchten. Kommt einfach vorbei und genießt den Feierabend! \n\nNur für Männer*!\nKein Dresscode – Fetisch willkommen\n\n⏵ ENGLISH ⏴\nOpen BDSM evening for men* who want to let off steam on a weeknight. Just enjoy a cosy chat or get to know our club and its premises in a relaxed manner and without any dress code. Just come along and enjoy the after-work hours! \n\nMen* only!\nNo dresscode – fetish welcome\n\n \nVoranmeldung möglich / Pre-registration possibleZur Anmeldung / Registration form
URL:https://quaelgeist.sm/event/sm-am-dienstag-sm-on-tuesday-38/
LOCATION:Quälgeist Berlin e.V.\, Lankwitzer Straße 42/43\, Berlin\, 12107\, Deutschland
CATEGORIES:Gay
ATTACH;FMTTYPE=image/jpeg:https://quaelgeist.sm/wp-content/uploads/2024/02/sm-am-dienstag-9CSzLX.tmp_.jpg
END:VEVENT
BEGIN:VEVENT
DTSTART;TZID=Europe/Berlin:20250718T210000
DTEND;TZID=Europe/Berlin:20250718T210000
DTSTAMP:20260422T114915
CREATED:20250427T161807Z
LAST-MODIFIED:20250427T161807Z
UID:10000549-1752872400-1752872400@quaelgeist.sm
SUMMARY:SM Nacht - SM Night
DESCRIPTION:▼ ENGLISH BELOW ▼\nFOMO? YOLO!\nWenn es überhaupt so etwas wie einen „ganz normalen Abend“ im Quälgeist gibt\, dann die SM-Nacht. Denn bei dieser offenen BDSM-Party für Männer* sind willkommen: Stammgäste\, Wiederholungstäter und Neulinge!\nNutzt unsere Räumlichkeiten für das Spiel mit Dominanz\, Unterwerfung\, Disziplin\, Schmerz und Neugier auf BDSM in Fetisch.\n# Peitschen\, Flogger\, Rohrstöcke\, Gerten\, Paddel\, Seile\, Strom\, Nippel\, Schwänze\, Füße\, Eier\, Trampling\, Gutpunching\, Kitzeln\, Flaschenzug\, Bock\, Pranger\, kinky Cruising # \n\nDresscode: Mach Dich interessant! Sei kinky!\nGute Gelegenheit\, um den Quälgeist als Safe-Space kennenzulernen!\n\n⏵ ENGLISH ⏴\nFOMO? YOLO!\nIf there is such a thing as a ´normal evening´ at Quälgeist it´s the SM night. Because at this open BDSM party for men* are are welcome: Frequent guests\, repeat offenders and newcomers!\nUse our premises to play with dominance\, submission\, discipline\, pain and curiosity about BDSM in fetish.\n# Whips\, floggers\, canes\, crops\, paddles\, ropes\, electricity\, nipples\, tails\, feet\, balls\, trampling\, gutpunching\, tickling\, pulley\, buck\, pillory\, kinky cruising # \n\nDress code: Dress to be interesting! Be kinky!\nGreat opportuntiy to get to know Quälgeist as a safe space!\n\n \nVoranmeldung möglich / Pre-registration possibleZur Anmeldung / Registration form
URL:https://quaelgeist.sm/event/sm-nacht-sm-night-14/
LOCATION:Quälgeist Berlin e.V.\, Lankwitzer Straße 42/43\, Berlin\, 12107\, Deutschland
CATEGORIES:Gay
END:VEVENT
END:VCALENDAR