BEGIN:VCALENDAR
VERSION:2.0
PRODID:-//Quälgeist Berlin e.V. - ECPv6.15.18//NONSGML v1.0//EN
CALSCALE:GREGORIAN
METHOD:PUBLISH
X-WR-CALNAME:Quälgeist Berlin e.V.
X-ORIGINAL-URL:https://quaelgeist.sm
X-WR-CALDESC:Veranstaltungen für Quälgeist Berlin e.V.
REFRESH-INTERVAL;VALUE=DURATION:PT1H
X-Robots-Tag:noindex
X-PUBLISHED-TTL:PT1H
BEGIN:VTIMEZONE
TZID:Europe/Berlin
BEGIN:DAYLIGHT
TZOFFSETFROM:+0100
TZOFFSETTO:+0200
TZNAME:CEST
DTSTART:20250330T010000
END:DAYLIGHT
BEGIN:STANDARD
TZOFFSETFROM:+0200
TZOFFSETTO:+0100
TZNAME:CET
DTSTART:20251026T010000
END:STANDARD
BEGIN:DAYLIGHT
TZOFFSETFROM:+0100
TZOFFSETTO:+0200
TZNAME:CEST
DTSTART:20260329T010000
END:DAYLIGHT
BEGIN:STANDARD
TZOFFSETFROM:+0200
TZOFFSETTO:+0100
TZNAME:CET
DTSTART:20261025T010000
END:STANDARD
BEGIN:DAYLIGHT
TZOFFSETFROM:+0100
TZOFFSETTO:+0200
TZNAME:CEST
DTSTART:20270328T010000
END:DAYLIGHT
BEGIN:STANDARD
TZOFFSETFROM:+0200
TZOFFSETTO:+0100
TZNAME:CET
DTSTART:20271031T010000
END:STANDARD
END:VTIMEZONE
BEGIN:VEVENT
DTSTART;TZID=Europe/Berlin:20260504T180000
DTEND;TZID=Europe/Berlin:20260504T230000
DTSTAMP:20260421T141043
CREATED:20260414T201015Z
LAST-MODIFIED:20260414T201015Z
UID:10000857-1777917600-1777935600@quaelgeist.sm
SUMMARY:Blue Monday Chillout
DESCRIPTION:▼ ENGLISH BELOW ▼\nAfterwork-BDSM-Party für Frauen* und Männer*\, um kinky in die Woche zu starten.  \n\nKein Dresscode – Fetisch willkommen\n\n⏵ ENGLISH ⏴\nAfterwork BDSM party for women* and men* to start of a kinky week. \n\nNo dresscode – fetish welcome\n\n \nVoranmeldung möglich / Pre-registration possibleZur Anmeldung / Registration form
URL:https://quaelgeist.sm/event/blue-monday-chillout-54/
LOCATION:Quälgeist Berlin e.V.\, Lankwitzer Straße 42/43\, Berlin\, 12107\, Deutschland
CATEGORIES:Mixed
END:VEVENT
BEGIN:VEVENT
DTSTART;TZID=Europe/Berlin:20260505T190000
DTEND;TZID=Europe/Berlin:20260505T230000
DTSTAMP:20260421T141043
CREATED:20260414T201015Z
LAST-MODIFIED:20260414T201015Z
UID:10000858-1778007600-1778022000@quaelgeist.sm
SUMMARY:SM am Dienstag - SM on Tuesday
DESCRIPTION:▼ ENGLISH BELOW ▼\nOffener BDSM-Abend für alle Männer*\, die auch unter der Woche die Sau rauslassen\, sich einfach gemütlich unterhalten oder unseren Verein und seine Räumlichkeiten ganz entspannt und ohne Dresscode kennenlernen möchten. Kommt einfach vorbei und genießt den Feierabend! \n\nNur für Männer*!\nKein Dresscode – Fetisch willkommen\n\n⏵ ENGLISH ⏴\nOpen BDSM evening for men* who want to let off steam on a weeknight. Just enjoy a cosy chat or get to know our club and its premises in a relaxed manner and without any dress code. Just come along and enjoy the after-work hours! \n\nMen* only!\nNo dresscode – fetish welcome\n\n \nVoranmeldung möglich / Pre-registration possibleZur Anmeldung / Registration form
URL:https://quaelgeist.sm/event/sm-am-dienstag-sm-on-tuesday-57/
LOCATION:Quälgeist Berlin e.V.\, Lankwitzer Straße 42/43\, Berlin\, 12107\, Deutschland
CATEGORIES:Gay
END:VEVENT
BEGIN:VEVENT
DTSTART;TZID=Europe/Berlin:20260509T200000
DTEND;TZID=Europe/Berlin:20260510T020000
DTSTAMP:20260421T141043
CREATED:20260414T201016Z
LAST-MODIFIED:20260414T201016Z
UID:10000863-1778356800-1778378400@quaelgeist.sm
SUMMARY:Sodom & Gomorrha
DESCRIPTION:▼ ENGLISH BELOW ▼\nAusschweifende BDSM- und Fetisch-Party biblischen Ausmaßes für Frauen* und Männer*.\nLass deine Göttin Pech und Schwefel auf dich herniederregnen oder – falls es an Gotteskraft mangelt – ein wenig Kerzenwachs und ein schlichtes Flogging. Oder was auch immer euch beliebt. Setzt Himmel und Hölle in Bewegung für Bondage\, Disziplin\, Sklaverei und D/s in allen Konstellationen ebenso\, wie für Sadomasochismus in Reinform. Für dominante Männer und devote Sklavinnen sowie für FemDoms und ihre unterwürfigen Männer. \n\nANGEMESSENE GARDEROBE: Abendkleid\, Anzug\, Fetisch oder gepflegtes Schwarz\n\n⏵ ENGLISH ⏴\nDebauched BDSM and fetish party of biblical proportions for women* and men*.\nLet your goddess rain fire and brimstone down on you\, or – if there’s a lack of godly power – a little candle wax and some plain simple flogging. Or whatever takes your fancy. Set heaven and hell in motion for bondage\, discipline\, slavery and D/s in all constellations as well as for sadomasochism in its purest form. For dominant men and submissive slaves as well as for FemDoms and their submissive men. \n\nAPPROPRIATE GARDEROBE: evening dress\, suit\, fetish or neat black.\n\n \nVoranmeldung möglich / Pre-registration possibleZur Anmeldung / Registration form
URL:https://quaelgeist.sm/event/sodom-gomorrha-25/
LOCATION:Quälgeist Berlin e.V.\, Lankwitzer Straße 42/43\, Berlin\, 12107\, Deutschland
CATEGORIES:Mixed
END:VEVENT
BEGIN:VEVENT
DTSTART;TZID=Europe/Berlin:20260513T190000
DTEND;TZID=Europe/Berlin:20260514T030000
DTSTAMP:20260421T141043
CREATED:20260414T201016Z
LAST-MODIFIED:20260414T201016Z
UID:10000865-1778698800-1778727600@quaelgeist.sm
SUMMARY:Schmerzlich Willkommen - Painful Welcome
DESCRIPTION:▼ ENGLISH BELOW ▼\nWir heißen euch zu ganz besonderen Anlässen wie z.B. EASTER BERLIN\, FOLSOM EUROPE Himmelfahrt oder dem Berliner CSD willkommen.\nUnd da es sich um solch besondere Anlässe handelt\, holt ihr am besten alles vom Halsband bis hin zur Fetischgear aus dem Kleiderschrank und startet in ein Wochenende voller BDSM und Fetisch. Nur für Männer*! \n\nDresscode: Leder\, Gummi\, Uniform\, Skin\, Punk\, Skater\, Proll\, Arbeitsklamotten\, Sportswear & Lycra\n\nEinlass bis 21:00 Uhr nur mit Anmeldung! Bitte melde Dich für diese Veranstaltung über den Kalender oder per Quälgeist-App an. Dein Platz ist dann bis zwei Stunden nach Veranstaltungsbeginn für Dich reserviert. Bitte storniere Deine Anmeldung\, falls sich Deine Pläne ändern sollten. Ab 21:00 Uhr offener Einlass. Wir empfehlen\, vorab unter Telefon +49 30 69519650 anzurufen und nachzufragen\, ob die laufende Veranstaltung voll ist. Eine bestätigte Anmeldung ist keine Einlassgarantie\, bitte achte darauf\, dass für einzelne Veranstaltungen eine bestimmte Zielgruppe oder ein Dresscode gelten können.\n\n⏵ ENGLISH ⏴\nWe welcome you to very special events like EASTER BERLIN\, FOLSOM EUROPE or Berlin PRIDE.\nAnd since these are such special occasions\, you better dig in your wardrobe for everything from collars to fetish gear and start a weekend full of BDSM and fetish. For men only*! \n\nDresscode: Leather\, Rubber\, Uniform\, Skin\, Punk\, Skater\, Chav\, Workgear\, Sportswear & Lycra\n\nAdmission until 9.00 p.m. only with registration! Please register for this event via the calendar or the Quälgeist app. Your place will then be reserved for you until two hours after the start of the event. Please cancel your registration if your plans change. Open admission from 9.00 p.m.. We recommend calling +49 30 69519650 in advance to check if the current event is full. Confirmed registration is not a guarantee of admission\, please note that individual events may have a specific target group or dress code. \nAnmeldung erforderlich! / Registration mandatory!Anmeldung ab 15.04.2026 19:00 Uhr / Registration starts on 2026-04-15 19:00 (Berlin local time)Zur Anmeldung / Registration form
URL:https://quaelgeist.sm/event/schmerzlich-willkommen-painful-welcome-8/
LOCATION:Quälgeist Berlin e.V.\, Lankwitzer Straße 42/43\, Berlin\, 12107\, Deutschland
CATEGORIES:Gay
END:VEVENT
BEGIN:VEVENT
DTSTART;TZID=Europe/Berlin:20260516T210000
DTEND;TZID=Europe/Berlin:20260517T030000
DTSTAMP:20260421T141043
CREATED:20260414T201017Z
LAST-MODIFIED:20260414T201017Z
UID:10000869-1778965200-1778986800@quaelgeist.sm
SUMMARY:On Your Knees
DESCRIPTION:▼ ENGLISH BELOW ▼\nBei unserer Sklavennacht für Männer* werden all die passiven und devoten Slaves\, Doggys\, Bitches usw. an die Kette gelegt\, erniedrigt\, ausgepeitscht\, gefloggert\, bestraft\, öffentlich vorgeführt\, erzogen und zum Dienen verdonnert. Und damit es gleich zur Sache gehen kann\, füllen alle Spielwütigen gleich zu Beginn einen Fragebogen mit ihren Vorlieben aus. \n\nDresscode: Leder\, Gummi\, Uniform\, Skin\, Punk\, Skater\, Proll\, Arbeitsklamotten\, Sportswear & Lycra\n\n⏵ ENGLISH ⏴\nAt our slave night for men*\, all the passive and submissive slaves\, doggies\, bitches etc. will be chained up\, humiliated\, whipped\, flogged\, punished\, publicly paraded\, educated and forced to serve. To speed things up all those who want to play fill out a questionnaire with their preferences right at the beginning. \n\nDresscode: Leather\, Rubber\, Uniform\, Skin\, Punk\, Skater\, Chav\, Workgear\, Sportswear & Lycra\n\n \nVoranmeldung möglich / Pre-registration possibleZur Anmeldung / Registration form
URL:https://quaelgeist.sm/event/on-your-knees-7/
LOCATION:Quälgeist Berlin e.V.\, Lankwitzer Straße 42/43\, Berlin\, 12107\, Deutschland
CATEGORIES:Gay
END:VEVENT
END:VCALENDAR